BEGIN:VCALENDAR
VERSION:2.0
PRODID:-//TUK - ECPv6.10.2//NONSGML v1.0//EN
CALSCALE:GREGORIAN
METHOD:PUBLISH
X-WR-CALNAME:TUK
X-ORIGINAL-URL:https://tuksport.ee
X-WR-CALDESC:Events for TUK
REFRESH-INTERVAL;VALUE=DURATION:PT1H
X-Robots-Tag:noindex
X-PUBLISHED-TTL:PT1H
BEGIN:VTIMEZONE
TZID:Europe/Helsinki
BEGIN:DAYLIGHT
TZOFFSETFROM:+0200
TZOFFSETTO:+0300
TZNAME:EEST
DTSTART:20250330T010000
END:DAYLIGHT
BEGIN:STANDARD
TZOFFSETFROM:+0300
TZOFFSETTO:+0200
TZNAME:EET
DTSTART:20251026T010000
END:STANDARD
END:VTIMEZONE
BEGIN:VEVENT
DTSTART;VALUE=DATE:20250802
DTEND;VALUE=DATE:20250803
DTSTAMP:20260426T033055
CREATED:20250617T102509Z
LAST-MODIFIED:20250617T102509Z
UID:13340-1754092800-1754179199@tuksport.ee
SUMMARY:5. O. Lukini mälestusvõistlus
DESCRIPTION:
URL:https://tuksport.ee/kalender/5-o-lukini-malestusvoistlus/
CATEGORIES:Võistlused
END:VEVENT
BEGIN:VEVENT
DTSTART;VALUE=DATE:20250803
DTEND;VALUE=DATE:20250804
DTSTAMP:20260426T033055
CREATED:20250617T102554Z
LAST-MODIFIED:20250617T193029Z
UID:13343-1754179200-1754265599@tuksport.ee
SUMMARY:Tabivere avaveeujumine 2025
DESCRIPTION:
URL:https://tuksport.ee/kalender/tabivere-avaveeujumine-2025/
LOCATION:Tabivere rand
CATEGORIES:Võistlused
END:VEVENT
BEGIN:VEVENT
DTSTART;VALUE=DATE:20250809
DTEND;VALUE=DATE:20250810
DTSTAMP:20260426T033055
CREATED:20250617T102627Z
LAST-MODIFIED:20250617T102627Z
UID:13347-1754697600-1754783999@tuksport.ee
SUMMARY:Avaveeujumise Eesti MV 4x1\,5 km teateujumises
DESCRIPTION:
URL:https://tuksport.ee/kalender/avaveeujumise-eesti-mv-4x15-km-teateujumises/
CATEGORIES:Võistlused
END:VEVENT
BEGIN:VEVENT
DTSTART;VALUE=DATE:20250810
DTEND;VALUE=DATE:20250811
DTSTAMP:20260426T033055
CREATED:20250617T102647Z
LAST-MODIFIED:20250617T102647Z
UID:13350-1754784000-1754870399@tuksport.ee
SUMMARY:Avaveeujumise Eesti MV 5 km
DESCRIPTION:
URL:https://tuksport.ee/kalender/avaveeujumise-eesti-mv-5-km/
CATEGORIES:Võistlused
END:VEVENT
BEGIN:VEVENT
DTSTART;VALUE=DATE:20250817
DTEND;VALUE=DATE:20250818
DTSTAMP:20260426T033055
CREATED:20250617T102725Z
LAST-MODIFIED:20250617T102725Z
UID:13352-1755388800-1755475199@tuksport.ee
SUMMARY:G. Otsa mälestusvõistlus 2025
DESCRIPTION:
URL:https://tuksport.ee/kalender/g-otsa-malestusvoistlus-2025/
CATEGORIES:Võistlused
END:VEVENT
END:VCALENDAR