BEGIN:VCALENDAR
VERSION:2.0
PRODID:-//TUK - ECPv6.10.2//NONSGML v1.0//EN
CALSCALE:GREGORIAN
METHOD:PUBLISH
X-WR-CALNAME:TUK
X-ORIGINAL-URL:https://tuksport.ee
X-WR-CALDESC:Events for TUK
REFRESH-INTERVAL;VALUE=DURATION:PT1H
X-Robots-Tag:noindex
X-PUBLISHED-TTL:PT1H
BEGIN:VTIMEZONE
TZID:Europe/Helsinki
BEGIN:DAYLIGHT
TZOFFSETFROM:+0200
TZOFFSETTO:+0300
TZNAME:EEST
DTSTART:20250330T010000
END:DAYLIGHT
BEGIN:STANDARD
TZOFFSETFROM:+0300
TZOFFSETTO:+0200
TZNAME:EET
DTSTART:20251026T010000
END:STANDARD
END:VTIMEZONE
BEGIN:VEVENT
DTSTART;VALUE=DATE:20251101
DTEND;VALUE=DATE:20251102
DTSTAMP:20260425T231349
CREATED:20250109T090746Z
LAST-MODIFIED:20250109T090746Z
UID:13115-1761955200-1762041599@tuksport.ee
SUMMARY:29. Noortesarja IV etapp
DESCRIPTION:📄 Võistlusjuhend
URL:https://tuksport.ee/kalender/29-noortesarja-iv-etapp/
LOCATION:Wiru Spordikeskus\, Järveküla tee 41\, Kohtla-Järve\, Ida-Virumaa\, 30328\, Eesti
CATEGORIES:Võistlused
END:VEVENT
BEGIN:VEVENT
DTSTART;VALUE=DATE:20251101
DTEND;VALUE=DATE:20251102
DTSTAMP:20260425T231349
CREATED:20250917T062815Z
LAST-MODIFIED:20260123T080639Z
UID:13486-1761955200-1762041599@tuksport.ee
SUMMARY:Arena Noortesari Nordaid etapp
DESCRIPTION:📄 Võistlusjuhend
URL:https://tuksport.ee/kalender/arena-noortesari-nordaid-etapp/
LOCATION:Wiru Spordikeskus\, Järveküla tee 41\, Kohtla-Järve\, Ida-Virumaa\, 30321
CATEGORIES:Võistlused
END:VEVENT
BEGIN:VEVENT
DTSTART;VALUE=DATE:20251114
DTEND;VALUE=DATE:20251117
DTSTAMP:20260425T231349
CREATED:20250917T062554Z
LAST-MODIFIED:20251117T103007Z
UID:13484-1763078400-1763337599@tuksport.ee
SUMMARY:Eesti juunioride ja noorte lühiraja meistrivõistlused 2025
DESCRIPTION:📄 Võistlusjuhend \n🏁 Stardiprotokoll \n🔴 Reaalajas tulemused \n⏱️ Tulemused
URL:https://tuksport.ee/kalender/eesti-juunioride-ja-noorte-luhiraja-meistrivoistlused-2025/
LOCATION:Wiru Spordikeskus\, Järveküla tee 41\, Kohtla-Järve\, Ida-Virumaa\, 30321
CATEGORIES:Võistlused
END:VEVENT
BEGIN:VEVENT
DTSTART;VALUE=DATE:20251122
DTEND;VALUE=DATE:20251123
DTSTAMP:20260425T231349
CREATED:20251125T085356Z
LAST-MODIFIED:20251125T085356Z
UID:13626-1763769600-1763855999@tuksport.ee
SUMMARY:EMV ujumises puudega inimestele 2025
DESCRIPTION:⏱️ Tulemused
URL:https://tuksport.ee/kalender/emv-ujumises-puudega-inimestele-2025/
CATEGORIES:Võistlused
END:VEVENT
BEGIN:VEVENT
DTSTART;VALUE=DATE:20251122
DTEND;VALUE=DATE:20251124
DTSTAMP:20260425T231349
CREATED:20251011T143403Z
LAST-MODIFIED:20251127T122554Z
UID:13561-1763769600-1763942399@tuksport.ee
SUMMARY:Kalev Open 2025
DESCRIPTION:📄 Võistlusjuhend \n⏱️ Tulemused
URL:https://tuksport.ee/kalender/kalev-open-2025/
LOCATION:Sõle Spordikeskus\, Sõle 40a\, Tallinn\, 10317\, Eesti
CATEGORIES:Võistlused
END:VEVENT
BEGIN:VEVENT
DTSTART;VALUE=DATE:20251122
DTEND;VALUE=DATE:20251124
DTSTAMP:20260425T231349
CREATED:20251117T103311Z
LAST-MODIFIED:20251117T103311Z
UID:13617-1763769600-1763942399@tuksport.ee
SUMMARY:VSK kontrollvõistlus
DESCRIPTION:📄 Võistlusjuhend
URL:https://tuksport.ee/kalender/vsk-kontrollvoistlus/
LOCATION:Aura veekeskus\, Turu 10\, Tartu\, Eesti
CATEGORIES:Võistlused
END:VEVENT
BEGIN:VEVENT
DTSTART;VALUE=DATE:20251128
DTEND;VALUE=DATE:20251201
DTSTAMP:20260425T231349
CREATED:20251129T071636Z
LAST-MODIFIED:20251201T080703Z
UID:13634-1764288000-1764547199@tuksport.ee
SUMMARY:Põhjamaade meistrivõistlused
DESCRIPTION:🔴 Reaalajas tulemused \n⏱️ Tulemused
URL:https://tuksport.ee/kalender/pohjamaade-meistrivoistlused-3/
CATEGORIES:Võistlused
END:VEVENT
END:VCALENDAR