BEGIN:VCALENDAR
VERSION:2.0
PRODID:-//TUK - ECPv6.10.2//NONSGML v1.0//EN
CALSCALE:GREGORIAN
METHOD:PUBLISH
X-ORIGINAL-URL:https://tuksport.ee
X-WR-CALDESC:Events for TUK
REFRESH-INTERVAL;VALUE=DURATION:PT1H
X-Robots-Tag:noindex
X-PUBLISHED-TTL:PT1H
BEGIN:VTIMEZONE
TZID:Europe/Helsinki
BEGIN:DAYLIGHT
TZOFFSETFROM:+0200
TZOFFSETTO:+0300
TZNAME:EEST
DTSTART:20260329T010000
END:DAYLIGHT
BEGIN:STANDARD
TZOFFSETFROM:+0300
TZOFFSETTO:+0200
TZNAME:EET
DTSTART:20261025T010000
END:STANDARD
END:VTIMEZONE
BEGIN:VEVENT
DTSTART;VALUE=DATE:20260124
DTEND;VALUE=DATE:20260125
DTSTAMP:20260425T213823
CREATED:20251229T193151Z
LAST-MODIFIED:20260125T190633Z
UID:13664-1769212800-1769299199@tuksport.ee
SUMMARY:Speedo Räimeralli I etapp 2026
DESCRIPTION:📄 Võistlusjuhend \n🏁 Stardiprotokoll \n🔴 Reaalajas tulemused \n⏱️ Tulemused
URL:https://tuksport.ee/kalender/speedo-raimeralli-i-etapp-2025/
LOCATION:Aura veekeskus\, Turu 10\, Tartu\, Eesti
CATEGORIES:Võistlused
END:VEVENT
END:VCALENDAR