BEGIN:VCALENDAR
VERSION:2.0
PRODID:-//TUK - ECPv6.10.2//NONSGML v1.0//EN
CALSCALE:GREGORIAN
METHOD:PUBLISH
X-WR-CALNAME:TUK
X-ORIGINAL-URL:https://tuksport.ee
X-WR-CALDESC:Events for TUK
REFRESH-INTERVAL;VALUE=DURATION:PT1H
X-Robots-Tag:noindex
X-PUBLISHED-TTL:PT1H
BEGIN:VTIMEZONE
TZID:Europe/Helsinki
BEGIN:DAYLIGHT
TZOFFSETFROM:+0200
TZOFFSETTO:+0300
TZNAME:EEST
DTSTART:20240331T010000
END:DAYLIGHT
BEGIN:STANDARD
TZOFFSETFROM:+0300
TZOFFSETTO:+0200
TZNAME:EET
DTSTART:20241027T010000
END:STANDARD
END:VTIMEZONE
BEGIN:VEVENT
DTSTART;VALUE=DATE:20241115
DTEND;VALUE=DATE:20241118
DTSTAMP:20260426T033213
CREATED:20240212T191217Z
LAST-MODIFIED:20241115T220420Z
UID:12520-1731628800-1731887999@tuksport.ee
SUMMARY:Eesti juunioride ja noorte lühiraja meistrivõistlused ujumises 2024
DESCRIPTION:📄 Võistlusjuhend \n🔴 Reaalajas tulemused
URL:https://tuksport.ee/kalender/eesti-juunioride-ja-noorte-luhiraja-meistrivoistlused-ujumises-2024/
LOCATION:Sõle Spordikeskus\, Sõle 40a\, Tallinn\, 10317\, Eesti
CATEGORIES:Võistlused
END:VEVENT
BEGIN:VEVENT
DTSTART;VALUE=DATE:20241110
DTEND;VALUE=DATE:20241111
DTSTAMP:20260426T033213
CREATED:20241109T105643Z
LAST-MODIFIED:20241110T162902Z
UID:13053-1731196800-1731283199@tuksport.ee
SUMMARY:Eesti meistrivõistlused ujumises puudega inimestele 2024
DESCRIPTION:📄 Võistlusjuhend \n⏱️ Stardiprotokoll \n🔴 Reaalajas tulemused \n🏁 Tulemused
URL:https://tuksport.ee/kalender/eesti-meistrivoistlused-ujumises-puudega-inimestele-2024/
LOCATION:Sõle Spordikeskus\, Sõle 40a\, Tallinn\, 10317\, Eesti
CATEGORIES:Võistlused
END:VEVENT
BEGIN:VEVENT
DTSTART;VALUE=DATE:20241109
DTEND;VALUE=DATE:20241110
DTSTAMP:20260426T033213
CREATED:20240928T193036Z
LAST-MODIFIED:20241110T163329Z
UID:12962-1731110400-1731196799@tuksport.ee
SUMMARY:Tartu Sügis
DESCRIPTION:📄 Võistlusjuhend \n⏱️ Stardiprotokoll \n🔴 Reaalajas tulemused \n🏁 Tulemused \n🏁 Paraujumise tulemused
URL:https://tuksport.ee/kalender/tartu-sugis/
LOCATION:Aura veekeskus\, Turu 10\, Tartu\, Eesti
CATEGORIES:Võistlused
END:VEVENT
BEGIN:VEVENT
DTSTART;VALUE=DATE:20241102
DTEND;VALUE=DATE:20241104
DTSTAMP:20260426T033213
CREATED:20240928T192927Z
LAST-MODIFIED:20241012T083408Z
UID:12960-1730505600-1730678399@tuksport.ee
SUMMARY:Kalev Open
DESCRIPTION:📄 Võistlusjuhend
URL:https://tuksport.ee/kalender/kalev-open-2/
LOCATION:Kalev SPA Veekeskus\, Aia 18\, Tallinn\, Harjumaa\, Eesti
CATEGORIES:Võistlused
END:VEVENT
BEGIN:VEVENT
DTSTART;VALUE=DATE:20241019
DTEND;VALUE=DATE:20241020
DTSTAMP:20260426T033213
CREATED:20240928T192548Z
LAST-MODIFIED:20241021T170704Z
UID:12951-1729296000-1729382399@tuksport.ee
SUMMARY:Speedo Räimeralli III etapp
DESCRIPTION:📄 Võistlusjuhend \n⏱️ Tulemused
URL:https://tuksport.ee/kalender/speedo-raimeralli-iii-etapp/
LOCATION:Aura veekeskus\, Turu 10\, Tartu\, Eesti
CATEGORIES:Võistlused
END:VEVENT
BEGIN:VEVENT
DTSTART;VALUE=DATE:20241012
DTEND;VALUE=DATE:20241013
DTSTAMP:20260426T033213
CREATED:20240212T185810Z
LAST-MODIFIED:20241012T143652Z
UID:12506-1728691200-1728777599@tuksport.ee
SUMMARY:Noortesarja IV etapp
DESCRIPTION:📄 Üldjuhend \n⏱️ Stardiprotokoll \n🔴 Reaalajas tulemused \n🏁 Tulemused
URL:https://tuksport.ee/kalender/noortesari-iv-etapp/
LOCATION:Aura veekeskus\, Turu 10\, Tartu\, Eesti
CATEGORIES:Võistlused
END:VEVENT
BEGIN:VEVENT
DTSTART;VALUE=DATE:20241004
DTEND;VALUE=DATE:20241007
DTSTAMP:20260426T033213
CREATED:20240227T100707Z
LAST-MODIFIED:20241007T061301Z
UID:12593-1728000000-1728259199@tuksport.ee
SUMMARY:XIII Eesti karikavõistlused ujumises 2024
DESCRIPTION:📄 Võistlusjuhend \n⏱️ Stardiprotokoll \n🔴 Reaalajas tulemused \n🏁 Tulemused
URL:https://tuksport.ee/kalender/xiii-eesti-karikavoistlused-ujumises-2024/
LOCATION:Wiru Spordikeskus\, Järveküla tee 41\, Kohtla-Järve\, Ida-Virumaa\, 30328\, Eesti
CATEGORIES:Võistlused
END:VEVENT
BEGIN:VEVENT
DTSTART;VALUE=DATE:20240928
DTEND;VALUE=DATE:20240930
DTSTAMP:20260426T033213
CREATED:20240823T165625Z
LAST-MODIFIED:20240930T055853Z
UID:12829-1727481600-1727654399@tuksport.ee
SUMMARY:Aura Open Cup 2024
DESCRIPTION:📄 Võistlusjuhend \n🏁 Tulemused
URL:https://tuksport.ee/kalender/aura-open-cup-2024/
LOCATION:Aura veekeskus\, Turu 10\, Tartu\, Eesti
CATEGORIES:Võistlused
END:VEVENT
BEGIN:VEVENT
DTSTART;VALUE=DATE:20240928
DTEND;VALUE=DATE:20240929
DTSTAMP:20260426T033213
CREATED:20240902T165112Z
LAST-MODIFIED:20240902T165112Z
UID:12858-1727481600-1727567999@tuksport.ee
SUMMARY:Kohtla-Järve linna lahtised pikamaaujumise meistrivõistlused
DESCRIPTION:📄 Võistlusjuhend
URL:https://tuksport.ee/kalender/kohtla-jarve-linna-lahtised-pikamaaujumise-meistrivoistlused/
LOCATION:Wiru Spordikeskus\, Järveküla tee 41\, Kohtla-Järve\, Ida-Virumaa\, 30321
CATEGORIES:Võistlused
END:VEVENT
BEGIN:VEVENT
DTSTART;VALUE=DATE:20240921
DTEND;VALUE=DATE:20240922
DTSTAMP:20260426T033213
CREATED:20240923T081004Z
LAST-MODIFIED:20240923T081004Z
UID:12918-1726876800-1726963199@tuksport.ee
SUMMARY:17. Tartu Pikamaaujumine
DESCRIPTION:🏁 I osa tulemused \n🏁 II osa tulemused
URL:https://tuksport.ee/kalender/17-tartu-pikamaaujumine/
LOCATION:Aura veekeskus\, Turu 10\, Tartu\, Eesti
CATEGORIES:Võistlused
END:VEVENT
BEGIN:VEVENT
DTSTART;VALUE=DATE:20240914
DTEND;VALUE=DATE:20240915
DTSTAMP:20260426T033213
CREATED:20240823T165509Z
LAST-MODIFIED:20240914T194933Z
UID:12825-1726272000-1726358399@tuksport.ee
SUMMARY:Tartu linna MV ujumises
DESCRIPTION:📄 Võistlusjuhend \n🏁 Stardiprotokoll \n🔴 Reaalajas tulemused \n⏱️ Tulemused
URL:https://tuksport.ee/kalender/tartu-linna-mv-ujumises/
LOCATION:Aura veekeskus\, Turu 10\, Tartu\, Eesti
CATEGORIES:Võistlused
END:VEVENT
BEGIN:VEVENT
DTSTART;VALUE=DATE:20240811
DTEND;VALUE=DATE:20240812
DTSTAMP:20260426T033213
CREATED:20240610T174619Z
LAST-MODIFIED:20240610T174619Z
UID:12723-1723334400-1723420799@tuksport.ee
SUMMARY:Eesti lahtised avaveeujumise meistrivõistlused 2024. 10 km maratonujumine
DESCRIPTION:📄 Võistlusjuhend
URL:https://tuksport.ee/kalender/eesti-lahtised-avaveeujumise-meistrivoistlused-2024-10-km-maratonujumine/
LOCATION:Pühajärve
CATEGORIES:Võistlused
END:VEVENT
BEGIN:VEVENT
DTSTART;VALUE=DATE:20240810
DTEND;VALUE=DATE:20240811
DTSTAMP:20260426T033213
CREATED:20240610T174807Z
LAST-MODIFIED:20240610T174807Z
UID:12728-1723248000-1723334399@tuksport.ee
SUMMARY:Eesti lahtised avaveeujumise meistrivõistlused 2024. 4x1\,5 km teateujumine
DESCRIPTION:📄 Võistlusjuhend
URL:https://tuksport.ee/kalender/eesti-lahtised-avaveeujumise-meistrivoistlused-2024-4x15-km-teateujumine/
LOCATION:Pühajärve
CATEGORIES:Võistlused
END:VEVENT
BEGIN:VEVENT
DTSTART;VALUE=DATE:20240720
DTEND;VALUE=DATE:20240721
DTSTAMP:20260426T033213
CREATED:20240610T174438Z
LAST-MODIFIED:20240722T102017Z
UID:12719-1721433600-1721519999@tuksport.ee
SUMMARY:XXXIV Eesti lahtised avaveeujumise meistrivõistlused
DESCRIPTION:📄 Võistlusjuhend \n🏁 Tulemused
URL:https://tuksport.ee/kalender/xxxiv-eesti-lahtised-avaveeujumise-meistrivoistlused/
LOCATION:Viljandi järv
CATEGORIES:Võistlused
END:VEVENT
BEGIN:VEVENT
DTSTART;VALUE=DATE:20240716
DTEND;VALUE=DATE:20240720
DTSTAMP:20260426T033213
CREATED:20240719T090631Z
LAST-MODIFIED:20240720T093912Z
UID:12765-1721088000-1721433599@tuksport.ee
SUMMARY:Rahvusvahelised Laste Mängud
DESCRIPTION:🏁 Tulemused
URL:https://tuksport.ee/kalender/rahvusvahelised-laste-mangud/
LOCATION:León\, Mehhiko
CATEGORIES:Võistlused
END:VEVENT
BEGIN:VEVENT
DTSTART;VALUE=DATE:20240711
DTEND;VALUE=DATE:20240714
DTSTAMP:20260426T033213
CREATED:20240212T191044Z
LAST-MODIFIED:20240714T172704Z
UID:12518-1720656000-1720915199@tuksport.ee
SUMMARY:Eesti lühiraja meistrivõistlused ujumises 2024
DESCRIPTION:📄 Võistlusjuhend \n🏁 Tulemused
URL:https://tuksport.ee/kalender/eesti-luhiraja-meistrivoistlused-ujumises-2024/
LOCATION:Wiru Spordikeskus\, Järveküla tee 41\, Kohtla-Järve\, Ida-Virumaa\, 30328\, Eesti
CATEGORIES:Võistlused
END:VEVENT
BEGIN:VEVENT
DTSTART;VALUE=DATE:20240628
DTEND;VALUE=DATE:20240629
DTSTAMP:20260426T033213
CREATED:20240528T103449Z
LAST-MODIFIED:20240703T105537Z
UID:12715-1719532800-1719619199@tuksport.ee
SUMMARY:Arena Keila Cup XXIII
DESCRIPTION:📄 Võistlusjuhend \n⏱️ Stardiprotokoll \n🏁 Tulemused
URL:https://tuksport.ee/kalender/arena-keila-cup-xxiii/
LOCATION:Keila Tervisekeskuse ujula\, Paldiski mnt 17\, Keila\, Eesti
CATEGORIES:Võistlused
END:VEVENT
BEGIN:VEVENT
DTSTART;VALUE=DATE:20240621
DTEND;VALUE=DATE:20240622
DTSTAMP:20260426T033213
CREATED:20240212T185702Z
LAST-MODIFIED:20240703T104944Z
UID:12503-1718928000-1719014399@tuksport.ee
SUMMARY:Noortesarja III etapp
DESCRIPTION:📄  Üldjuhend \n⏱️ Stardiprotokoll \n🏁 Tulemused
URL:https://tuksport.ee/kalender/noortesari-iii-etapp/
CATEGORIES:Võistlused
END:VEVENT
BEGIN:VEVENT
DTSTART;VALUE=DATE:20240608
DTEND;VALUE=DATE:20240609
DTSTAMP:20260426T033213
CREATED:20240521T084343Z
LAST-MODIFIED:20240521T084635Z
UID:12710-1717804800-1717891199@tuksport.ee
SUMMARY:Eesti masters-ujumise meistrivõistlused (50m basseinis) 2024
DESCRIPTION:📄 Võistlusjuhend
URL:https://tuksport.ee/kalender/eesti-masters-ujumise-meistrivoistlused-50m-basseinis-2024/
LOCATION:Aura veekeskus\, Turu 10\, Tartu\, Eesti
CATEGORIES:Võistlused
END:VEVENT
BEGIN:VEVENT
DTSTART;VALUE=DATE:20240602
DTEND;VALUE=DATE:20240603
DTSTAMP:20260426T033213
CREATED:20240422T113533Z
LAST-MODIFIED:20240422T113533Z
UID:12687-1717286400-1717372799@tuksport.ee
SUMMARY:Lotte Cup
DESCRIPTION:📄 Võistlusjuhend
URL:https://tuksport.ee/kalender/lotte-cup/
LOCATION:Keila Tervisekeskuse ujula\, Paldiski mnt 17\, Keila\, Eesti
CATEGORIES:Võistlused
END:VEVENT
BEGIN:VEVENT
DTSTART;VALUE=DATE:20240525
DTEND;VALUE=DATE:20240526
DTSTAMP:20260426T033213
CREATED:20240123T173656Z
LAST-MODIFIED:20240408T181755Z
UID:12414-1716595200-1716681599@tuksport.ee
SUMMARY:Laste Karikas III etapp 2024
DESCRIPTION:📄 Võistlusjuhend
URL:https://tuksport.ee/kalender/laste-karikas-iii-etapp-2024/
LOCATION:Sõle Spordikeskus\, Sõle 40a\, Tallinn\, 10317\, Eesti
CATEGORIES:Võistlused
END:VEVENT
BEGIN:VEVENT
DTSTART;VALUE=DATE:20240516
DTEND;VALUE=DATE:20240519
DTSTAMP:20260426T033213
CREATED:20240212T190850Z
LAST-MODIFIED:20240519T181847Z
UID:12514-1715817600-1716076799@tuksport.ee
SUMMARY:Eesti juunioride ja noorte meistrivõistlused 2024
DESCRIPTION:📄 Võistlusjuhend \n🏁 Reaalajas tulemused ja startlist \n⏱️ Tulemused
URL:https://tuksport.ee/kalender/eesti-juunioride-ja-noorte-meistrivoistlused/
LOCATION:Kalev SPA Veekeskus\, Aia 18\, Tallinn\, Harjumaa\, Eesti
CATEGORIES:Võistlused
END:VEVENT
BEGIN:VEVENT
DTSTART;VALUE=DATE:20240512
DTEND;VALUE=DATE:20240513
DTSTAMP:20260426T033213
CREATED:20240407T155639Z
LAST-MODIFIED:20240407T155639Z
UID:12659-1715472000-1715558399@tuksport.ee
SUMMARY:Uju ja jookse finaal
DESCRIPTION:📄 Võistlusjuhend
URL:https://tuksport.ee/kalender/uju-ja-jookse-finaal/
LOCATION:Tabasalu Spordikompleks\, Kooli tn 11\, Tabasalu\, Eesti
CATEGORIES:Võistlused
END:VEVENT
BEGIN:VEVENT
DTSTART;VALUE=DATE:20240511
DTEND;VALUE=DATE:20240512
DTSTAMP:20260426T033213
CREATED:20240319T101455Z
LAST-MODIFIED:20240319T101508Z
UID:12623-1715385600-1715471999@tuksport.ee
SUMMARY:Räimeralli II etapp
DESCRIPTION:📄 Võistlusjuhend
URL:https://tuksport.ee/kalender/raimeralli-ii-etapp/
LOCATION:Aura veekeskus\, Turu 10\, Tartu\, Eesti
CATEGORIES:Võistlused
END:VEVENT
BEGIN:VEVENT
DTSTART;VALUE=DATE:20240505
DTEND;VALUE=DATE:20240506
DTSTAMP:20260426T033213
CREATED:20240220T074849Z
LAST-MODIFIED:20240220T074849Z
UID:12556-1714867200-1714953599@tuksport.ee
SUMMARY:Lehola Kevad/ Sakalamaa Angerjas V etapp
DESCRIPTION:
URL:https://tuksport.ee/kalender/lehola-kevad-sakalamaa-angerjas-v-etapp/
LOCATION:Suure-Jaani Tervisekoja Veekeskus\, Pärnu tn 4\, Suure-Jaani\, Eesti
CATEGORIES:Võistlused
END:VEVENT
BEGIN:VEVENT
DTSTART;VALUE=DATE:20240502
DTEND;VALUE=DATE:20240505
DTSTAMP:20260426T033213
CREATED:20240321T162800Z
LAST-MODIFIED:20240321T162800Z
UID:12629-1714608000-1714867199@tuksport.ee
SUMMARY:99. Läti lahtised meistrivõistlused ujumises
DESCRIPTION:📄 Võistlusjuhend
URL:https://tuksport.ee/kalender/99-lati-lahtised-meistrivoistlused-ujumises/
CATEGORIES:Võistlused
END:VEVENT
BEGIN:VEVENT
DTSTART;VALUE=DATE:20240420
DTEND;VALUE=DATE:20240421
DTSTAMP:20260426T033213
CREATED:20240123T173805Z
LAST-MODIFIED:20240408T181527Z
UID:12417-1713571200-1713657599@tuksport.ee
SUMMARY:Laste Karikas II etapp 2024
DESCRIPTION:📄 Võistlusjuhend
URL:https://tuksport.ee/kalender/laste-karikas-ii-etapp-2024/
LOCATION:Sõle Spordikeskus\, Sõle 40a\, Tallinn\, 10317\, Eesti
CATEGORIES:Võistlused
END:VEVENT
BEGIN:VEVENT
DTSTART;VALUE=DATE:20240414
DTEND;VALUE=DATE:20240415
DTSTAMP:20260426T033213
CREATED:20240306T123713Z
LAST-MODIFIED:20240306T123713Z
UID:12609-1713052800-1713139199@tuksport.ee
SUMMARY:Kadrina basseinitriatlon
DESCRIPTION:📄 Võistlusjuhend
URL:https://tuksport.ee/kalender/kadrina-basseinitriatlon/
LOCATION:Kadrina Spordikeskus\, Rakvere tee 14\, Kadrina\, Eesti
CATEGORIES:Võistlused
END:VEVENT
BEGIN:VEVENT
DTSTART;VALUE=DATE:20240412
DTEND;VALUE=DATE:20240415
DTSTAMP:20260426T033213
CREATED:20231125T174602Z
LAST-MODIFIED:20240414T185921Z
UID:12320-1712880000-1713139199@tuksport.ee
SUMMARY:MadWave Challenge 2024
DESCRIPTION:📄 Juhend EST \n📄 Rules and regulations ENG \n🏁 Startlist \n🔴 Reaalajas tulemused/Live results \n⏰ Võistluste ajakava/schedule:\n1️⃣ session Friday\, 12. april – start 17.30\, (warmup 16.40)\n2️⃣ session Saturday\, 13. april – start 11.00\, (warmup 10.20)\n3️⃣ session Saturday\, 13. april – start 17.30\, (warmup 16.40)\n4️⃣ session Sunday\, 14. april – start 11.00\, (warmup 10.20) \n📸 Pildigalerii/Photos \n⏱️ Tulemused/Results
URL:https://tuksport.ee/kalender/madwave-challenge-2024/
LOCATION:Aura veekeskus\, Turu 10\, Tartu\, Eesti
CATEGORIES:Võistlused
END:VEVENT
BEGIN:VEVENT
DTSTART;VALUE=DATE:20240407
DTEND;VALUE=DATE:20240408
DTSTAMP:20260426T033213
CREATED:20240220T074733Z
LAST-MODIFIED:20240407T155928Z
UID:12553-1712448000-1712534399@tuksport.ee
SUMMARY:Abja Kevad/Sakalamaa Angerjas IV etapp
DESCRIPTION:🔴 Reaalajas tulemused ja stardiprotokoll
URL:https://tuksport.ee/kalender/abja-kevad-sakalamaa-angerjas-iv-etapp/
LOCATION:Abja Spordi- ja Tervisekeskus\, Abja tee 15\, Abja-Paluoja\, Eesti
CATEGORIES:Võistlused
END:VEVENT
END:VCALENDAR