BEGIN:VCALENDAR
VERSION:2.0
PRODID:-//TUK - ECPv6.10.2//NONSGML v1.0//EN
CALSCALE:GREGORIAN
METHOD:PUBLISH
X-ORIGINAL-URL:https://tuksport.ee
X-WR-CALDESC:Events for TUK
REFRESH-INTERVAL;VALUE=DURATION:PT1H
X-Robots-Tag:noindex
X-PUBLISHED-TTL:PT1H
BEGIN:VTIMEZONE
TZID:Europe/Helsinki
BEGIN:DAYLIGHT
TZOFFSETFROM:+0200
TZOFFSETTO:+0300
TZNAME:EEST
DTSTART:20240331T010000
END:DAYLIGHT
BEGIN:STANDARD
TZOFFSETFROM:+0300
TZOFFSETTO:+0200
TZNAME:EET
DTSTART:20241027T010000
END:STANDARD
BEGIN:DAYLIGHT
TZOFFSETFROM:+0200
TZOFFSETTO:+0300
TZNAME:EEST
DTSTART:20250330T010000
END:DAYLIGHT
BEGIN:STANDARD
TZOFFSETFROM:+0300
TZOFFSETTO:+0200
TZNAME:EET
DTSTART:20251026T010000
END:STANDARD
END:VTIMEZONE
BEGIN:VEVENT
DTSTART;VALUE=DATE:20240720
DTEND;VALUE=DATE:20240721
DTSTAMP:20260420T112412
CREATED:20240610T174438Z
LAST-MODIFIED:20240722T102017Z
UID:12719-1721433600-1721519999@tuksport.ee
SUMMARY:XXXIV Eesti lahtised avaveeujumise meistrivõistlused
DESCRIPTION:📄 Võistlusjuhend \n🏁 Tulemused
URL:https://tuksport.ee/kalender/xxxiv-eesti-lahtised-avaveeujumise-meistrivoistlused/
LOCATION:Viljandi järv
CATEGORIES:Võistlused
END:VEVENT
BEGIN:VEVENT
DTSTART;VALUE=DATE:20240810
DTEND;VALUE=DATE:20240811
DTSTAMP:20260420T112412
CREATED:20240610T174807Z
LAST-MODIFIED:20240610T174807Z
UID:12728-1723248000-1723334399@tuksport.ee
SUMMARY:Eesti lahtised avaveeujumise meistrivõistlused 2024. 4x1\,5 km teateujumine
DESCRIPTION:📄 Võistlusjuhend
URL:https://tuksport.ee/kalender/eesti-lahtised-avaveeujumise-meistrivoistlused-2024-4x15-km-teateujumine/
LOCATION:Pühajärve
CATEGORIES:Võistlused
END:VEVENT
BEGIN:VEVENT
DTSTART;VALUE=DATE:20240811
DTEND;VALUE=DATE:20240812
DTSTAMP:20260420T112412
CREATED:20240610T174619Z
LAST-MODIFIED:20240610T174619Z
UID:12723-1723334400-1723420799@tuksport.ee
SUMMARY:Eesti lahtised avaveeujumise meistrivõistlused 2024. 10 km maratonujumine
DESCRIPTION:📄 Võistlusjuhend
URL:https://tuksport.ee/kalender/eesti-lahtised-avaveeujumise-meistrivoistlused-2024-10-km-maratonujumine/
LOCATION:Pühajärve
CATEGORIES:Võistlused
END:VEVENT
BEGIN:VEVENT
DTSTART;VALUE=DATE:20240914
DTEND;VALUE=DATE:20240915
DTSTAMP:20260420T112412
CREATED:20240823T165509Z
LAST-MODIFIED:20240914T194933Z
UID:12825-1726272000-1726358399@tuksport.ee
SUMMARY:Tartu linna MV ujumises
DESCRIPTION:📄 Võistlusjuhend \n🏁 Stardiprotokoll \n🔴 Reaalajas tulemused \n⏱️ Tulemused
URL:https://tuksport.ee/kalender/tartu-linna-mv-ujumises/
LOCATION:Aura veekeskus\, Turu 10\, Tartu\, Eesti
CATEGORIES:Võistlused
END:VEVENT
BEGIN:VEVENT
DTSTART;VALUE=DATE:20240921
DTEND;VALUE=DATE:20240922
DTSTAMP:20260420T112412
CREATED:20240923T081004Z
LAST-MODIFIED:20240923T081004Z
UID:12918-1726876800-1726963199@tuksport.ee
SUMMARY:17. Tartu Pikamaaujumine
DESCRIPTION:🏁 I osa tulemused \n🏁 II osa tulemused
URL:https://tuksport.ee/kalender/17-tartu-pikamaaujumine/
LOCATION:Aura veekeskus\, Turu 10\, Tartu\, Eesti
CATEGORIES:Võistlused
END:VEVENT
BEGIN:VEVENT
DTSTART;VALUE=DATE:20240928
DTEND;VALUE=DATE:20240929
DTSTAMP:20260420T112412
CREATED:20240902T165112Z
LAST-MODIFIED:20240902T165112Z
UID:12858-1727481600-1727567999@tuksport.ee
SUMMARY:Kohtla-Järve linna lahtised pikamaaujumise meistrivõistlused
DESCRIPTION:📄 Võistlusjuhend
URL:https://tuksport.ee/kalender/kohtla-jarve-linna-lahtised-pikamaaujumise-meistrivoistlused/
LOCATION:Wiru Spordikeskus\, Järveküla tee 41\, Kohtla-Järve\, Ida-Virumaa\, 30321
CATEGORIES:Võistlused
END:VEVENT
BEGIN:VEVENT
DTSTART;VALUE=DATE:20240928
DTEND;VALUE=DATE:20240930
DTSTAMP:20260420T112412
CREATED:20240823T165625Z
LAST-MODIFIED:20240930T055853Z
UID:12829-1727481600-1727654399@tuksport.ee
SUMMARY:Aura Open Cup 2024
DESCRIPTION:📄 Võistlusjuhend \n🏁 Tulemused
URL:https://tuksport.ee/kalender/aura-open-cup-2024/
LOCATION:Aura veekeskus\, Turu 10\, Tartu\, Eesti
CATEGORIES:Võistlused
END:VEVENT
BEGIN:VEVENT
DTSTART;VALUE=DATE:20241004
DTEND;VALUE=DATE:20241007
DTSTAMP:20260420T112412
CREATED:20240227T100707Z
LAST-MODIFIED:20241007T061301Z
UID:12593-1728000000-1728259199@tuksport.ee
SUMMARY:XIII Eesti karikavõistlused ujumises 2024
DESCRIPTION:📄 Võistlusjuhend \n⏱️ Stardiprotokoll \n🔴 Reaalajas tulemused \n🏁 Tulemused
URL:https://tuksport.ee/kalender/xiii-eesti-karikavoistlused-ujumises-2024/
LOCATION:Wiru Spordikeskus\, Järveküla tee 41\, Kohtla-Järve\, Ida-Virumaa\, 30328\, Eesti
CATEGORIES:Võistlused
END:VEVENT
BEGIN:VEVENT
DTSTART;VALUE=DATE:20241012
DTEND;VALUE=DATE:20241013
DTSTAMP:20260420T112412
CREATED:20240212T185810Z
LAST-MODIFIED:20241012T143652Z
UID:12506-1728691200-1728777599@tuksport.ee
SUMMARY:Noortesarja IV etapp
DESCRIPTION:📄 Üldjuhend \n⏱️ Stardiprotokoll \n🔴 Reaalajas tulemused \n🏁 Tulemused
URL:https://tuksport.ee/kalender/noortesari-iv-etapp/
LOCATION:Aura veekeskus\, Turu 10\, Tartu\, Eesti
CATEGORIES:Võistlused
END:VEVENT
BEGIN:VEVENT
DTSTART;VALUE=DATE:20241019
DTEND;VALUE=DATE:20241020
DTSTAMP:20260420T112412
CREATED:20240928T192548Z
LAST-MODIFIED:20241021T170704Z
UID:12951-1729296000-1729382399@tuksport.ee
SUMMARY:Speedo Räimeralli III etapp
DESCRIPTION:📄 Võistlusjuhend \n⏱️ Tulemused
URL:https://tuksport.ee/kalender/speedo-raimeralli-iii-etapp/
LOCATION:Aura veekeskus\, Turu 10\, Tartu\, Eesti
CATEGORIES:Võistlused
END:VEVENT
BEGIN:VEVENT
DTSTART;VALUE=DATE:20241102
DTEND;VALUE=DATE:20241104
DTSTAMP:20260420T112412
CREATED:20240928T192927Z
LAST-MODIFIED:20241012T083408Z
UID:12960-1730505600-1730678399@tuksport.ee
SUMMARY:Kalev Open
DESCRIPTION:📄 Võistlusjuhend
URL:https://tuksport.ee/kalender/kalev-open-2/
LOCATION:Kalev SPA Veekeskus\, Aia 18\, Tallinn\, Harjumaa\, Eesti
CATEGORIES:Võistlused
END:VEVENT
BEGIN:VEVENT
DTSTART;VALUE=DATE:20241109
DTEND;VALUE=DATE:20241110
DTSTAMP:20260420T112412
CREATED:20240928T193036Z
LAST-MODIFIED:20241110T163329Z
UID:12962-1731110400-1731196799@tuksport.ee
SUMMARY:Tartu Sügis
DESCRIPTION:📄 Võistlusjuhend \n⏱️ Stardiprotokoll \n🔴 Reaalajas tulemused \n🏁 Tulemused \n🏁 Paraujumise tulemused
URL:https://tuksport.ee/kalender/tartu-sugis/
LOCATION:Aura veekeskus\, Turu 10\, Tartu\, Eesti
CATEGORIES:Võistlused
END:VEVENT
BEGIN:VEVENT
DTSTART;VALUE=DATE:20241110
DTEND;VALUE=DATE:20241111
DTSTAMP:20260420T112412
CREATED:20241109T105643Z
LAST-MODIFIED:20241110T162902Z
UID:13053-1731196800-1731283199@tuksport.ee
SUMMARY:Eesti meistrivõistlused ujumises puudega inimestele 2024
DESCRIPTION:📄 Võistlusjuhend \n⏱️ Stardiprotokoll \n🔴 Reaalajas tulemused \n🏁 Tulemused
URL:https://tuksport.ee/kalender/eesti-meistrivoistlused-ujumises-puudega-inimestele-2024/
LOCATION:Sõle Spordikeskus\, Sõle 40a\, Tallinn\, 10317\, Eesti
CATEGORIES:Võistlused
END:VEVENT
BEGIN:VEVENT
DTSTART;VALUE=DATE:20241115
DTEND;VALUE=DATE:20241118
DTSTAMP:20260420T112412
CREATED:20240212T191217Z
LAST-MODIFIED:20241115T220420Z
UID:12520-1731628800-1731887999@tuksport.ee
SUMMARY:Eesti juunioride ja noorte lühiraja meistrivõistlused ujumises 2024
DESCRIPTION:📄 Võistlusjuhend \n🔴 Reaalajas tulemused
URL:https://tuksport.ee/kalender/eesti-juunioride-ja-noorte-luhiraja-meistrivoistlused-ujumises-2024/
LOCATION:Sõle Spordikeskus\, Sõle 40a\, Tallinn\, 10317\, Eesti
CATEGORIES:Võistlused
END:VEVENT
BEGIN:VEVENT
DTSTART;VALUE=DATE:20241123
DTEND;VALUE=DATE:20241124
DTSTAMP:20260420T112412
CREATED:20240212T185918Z
LAST-MODIFIED:20241125T202106Z
UID:12508-1732320000-1732406399@tuksport.ee
SUMMARY:Noortesarja finaal
DESCRIPTION:📄  Üldjuhend \n📄 Võistlusjuhend \n🏁 Stardiprotokoll \n🔴 Reaalajas tulemused \n⏱️ Tulemused
URL:https://tuksport.ee/kalender/noortesari-finaal/
LOCATION:Wiru Spordikeskus\, Järveküla tee 41\, Kohtla-Järve\, Ida-Virumaa\, 30328\, Eesti
CATEGORIES:Võistlused
END:VEVENT
BEGIN:VEVENT
DTSTART;VALUE=DATE:20241124
DTEND;VALUE=DATE:20241125
DTSTAMP:20260420T112413
CREATED:20241008T204636Z
LAST-MODIFIED:20241117T210602Z
UID:12983-1732406400-1732492799@tuksport.ee
SUMMARY:Kõik Meie Pardikesed
DESCRIPTION:📄 Võistlusjuhend
URL:https://tuksport.ee/kalender/koik-meie-pardikesed/
LOCATION:Keila Tervisekeskuse ujula\, Paldiski mnt 17\, Keila\, Eesti
CATEGORIES:Võistlused
END:VEVENT
BEGIN:VEVENT
DTSTART;VALUE=DATE:20241130
DTEND;VALUE=DATE:20241202
DTSTAMP:20260420T112413
CREATED:20241106T091237Z
LAST-MODIFIED:20241106T091237Z
UID:13043-1732924800-1733097599@tuksport.ee
SUMMARY:Wiru Swim Cup
DESCRIPTION:📄 Võistlusjuhend
URL:https://tuksport.ee/kalender/wiru-swim-cup/
LOCATION:Wiru Spordikeskus\, Järveküla tee 41\, Kohtla-Järve\, Ida-Virumaa\, 30321
CATEGORIES:Võistlused
END:VEVENT
BEGIN:VEVENT
DTSTART;VALUE=DATE:20241201
DTEND;VALUE=DATE:20241204
DTSTAMP:20260420T112413
CREATED:20240928T193206Z
LAST-MODIFIED:20241201T094518Z
UID:12964-1733011200-1733270399@tuksport.ee
SUMMARY:Põhjamaade meistrivõistlused
DESCRIPTION:📄 Võistlusjuhend \n🔴 Reaalajas tulemused \n Video ülekanne
URL:https://tuksport.ee/kalender/pohjamaade-meistrivoistlused-2/
LOCATION:Taani\, Denmark
CATEGORIES:Võistlused
END:VEVENT
BEGIN:VEVENT
DTSTART;VALUE=DATE:20241207
DTEND;VALUE=DATE:20241208
DTSTAMP:20260420T112413
CREATED:20240928T193314Z
LAST-MODIFIED:20241205T103913Z
UID:12967-1733529600-1733615999@tuksport.ee
SUMMARY:Eesti mastersujumise meistrivõistlused
DESCRIPTION:📄 Võistlusjuhend \n🔴 Reaalajas tulemused
URL:https://tuksport.ee/kalender/eesti-mastersujumise-meistrivoistlused/
CATEGORIES:Võistlused
END:VEVENT
BEGIN:VEVENT
DTSTART;VALUE=DATE:20241207
DTEND;VALUE=DATE:20241208
DTSTAMP:20260420T112413
CREATED:20240928T193450Z
LAST-MODIFIED:20241207T210817Z
UID:12969-1733529600-1733615999@tuksport.ee
SUMMARY:Speedo Räimeralli finaal
DESCRIPTION:📄 Võistlusjuhend \n⏱️ Stardiprotokoll \n🔴 Tulemused reaalajas \n🏁 Tulemused
URL:https://tuksport.ee/kalender/speedo-raimeralli-finaal-2/
LOCATION:Aura veekeskus\, Turu 10\, Tartu\, Eesti
CATEGORIES:Võistlused
END:VEVENT
BEGIN:VEVENT
DTSTART;VALUE=DATE:20241220
DTEND;VALUE=DATE:20241223
DTSTAMP:20260420T112413
CREATED:20240212T190413Z
LAST-MODIFIED:20241223T142930Z
UID:12510-1734652800-1734911999@tuksport.ee
SUMMARY:105. Eesti lahtised meistrivõistlused ujumises 2024
DESCRIPTION:📄 Võistlusjuhend \n📄 Rules and regulations ENG \n⏱️ Startlist \n🔴 Reaalajas tulemused \n📹 Video ülekanne \n🏁 Tulemused
URL:https://tuksport.ee/kalender/105-eesti-meistrivoistlused-ujumises/
LOCATION:Aura veekeskus\, Turu 10\, Tartu\, Eesti
CATEGORIES:Võistlused
END:VEVENT
BEGIN:VEVENT
DTSTART;VALUE=DATE:20250125
DTEND;VALUE=DATE:20250126
DTSTAMP:20260420T112413
CREATED:20241231T072312Z
LAST-MODIFIED:20250126T114212Z
UID:13097-1737763200-1737849599@tuksport.ee
SUMMARY:Speedo Räimeralli I etapp
DESCRIPTION:📄 Võistlusjuhend \n🔴 Reaalajas tulemused \n⏱️ Tulemused
URL:https://tuksport.ee/kalender/speedo-raimeralli-i-etapp/
LOCATION:Aura veekeskus\, Turu 10\, Tartu\, Eesti
CATEGORIES:Võistlused
END:VEVENT
BEGIN:VEVENT
DTSTART;VALUE=DATE:20250209
DTEND;VALUE=DATE:20250210
DTSTAMP:20260420T112413
CREATED:20250109T090459Z
LAST-MODIFIED:20250212T100901Z
UID:13108-1739059200-1739145599@tuksport.ee
SUMMARY:29. Noortesarja I etapp
DESCRIPTION:📄 Üldjuhend \n📄 Võistlusjuhend \n🔴 Reaalajas tulemused \n  \n 
URL:https://tuksport.ee/kalender/29-noortesarja-i-etapp/
LOCATION:Aura veekeskus\, Turu 10\, Tartu\, Eesti
CATEGORIES:Võistlused
END:VEVENT
BEGIN:VEVENT
DTSTART;VALUE=DATE:20250215
DTEND;VALUE=DATE:20250217
DTSTAMP:20260420T112413
CREATED:20241201T152749Z
LAST-MODIFIED:20250216T200224Z
UID:13077-1739577600-1739750399@tuksport.ee
SUMMARY:Zirk Swim Cup
DESCRIPTION:📄 Võistlusjuhend \n🔴 Reaalajas tulemused \n🏁 Tulemused
URL:https://tuksport.ee/kalender/zirk-swim-cup/
LOCATION:Aura veekeskus\, Turu 10\, Tartu\, Eesti
CATEGORIES:Võistlused
END:VEVENT
BEGIN:VEVENT
DTSTART;VALUE=DATE:20250222
DTEND;VALUE=DATE:20250223
DTSTAMP:20260420T112413
CREATED:20250119T115922Z
LAST-MODIFIED:20250223T120655Z
UID:13127-1740182400-1740268799@tuksport.ee
SUMMARY:Edasi Ühel Lainel 2025
DESCRIPTION:📄 Võistlusjuhend \n⏱️ Stardiprotkoll \n🔴 Reaalajas tulemused \n🏁 Tulemused \n📸 Pildigalerii
URL:https://tuksport.ee/kalender/edasi-uhel-lainel-2025/
LOCATION:Aura veekeskus\, Turu 10\, Tartu\, Eesti
CATEGORIES:Võistlused
END:VEVENT
BEGIN:VEVENT
DTSTART;VALUE=DATE:20250222
DTEND;VALUE=DATE:20250223
DTSTAMP:20260420T112413
CREATED:20250119T120008Z
LAST-MODIFIED:20250223T114514Z
UID:13129-1740182400-1740268799@tuksport.ee
SUMMARY:Anna Hoogu 2025
DESCRIPTION:📄 Võistlusjuhend \n👉 Registreerida saab Swimrankingus või saates täidetud registreerimislehe marge@tuksport.ee \n⏱️ Stardiprotokoll \n🔴 Reaalajas tulemused \n🏁 Tulemused \n📸 Pildigalerii
URL:https://tuksport.ee/kalender/anna-hoogu-2025/
LOCATION:Aura veekeskus\, Turu 10\, Tartu\, Eesti
END:VEVENT
BEGIN:VEVENT
DTSTART;VALUE=DATE:20250301
DTEND;VALUE=DATE:20250302
DTSTAMP:20260420T112413
CREATED:20250212T100712Z
LAST-MODIFIED:20250301T122055Z
UID:13167-1740787200-1740873599@tuksport.ee
SUMMARY:15. Eestimaa talimängud
DESCRIPTION:📄 Võistlusjuhend \n📄 Startlist \nJooksvad tulemused \n 
URL:https://tuksport.ee/kalender/15-eestimaa-talimangud/
LOCATION:Aura veekeskus\, Turu 10\, Tartu\, Eesti
CATEGORIES:Võistlused
END:VEVENT
BEGIN:VEVENT
DTSTART;VALUE=DATE:20250308
DTEND;VALUE=DATE:20250310
DTSTAMP:20260420T112413
CREATED:20250306T085428Z
LAST-MODIFIED:20250308T070342Z
UID:13213-1741392000-1741564799@tuksport.ee
SUMMARY:Baltimaade meistrivõistlused 2025
DESCRIPTION:📄 Võistlusjuhend \n🏁 Stardiprotokoll \nLIVE tulemused
URL:https://tuksport.ee/kalender/baltimaade-meistrivoistlused-2025/
LOCATION:Aura veekeskus\, Turu 10\, Tartu\, Eesti
CATEGORIES:Võistlused
END:VEVENT
BEGIN:VEVENT
DTSTART;VALUE=DATE:20250322
DTEND;VALUE=DATE:20250323
DTSTAMP:20260420T112413
CREATED:20250109T090556Z
LAST-MODIFIED:20250322T174418Z
UID:13111-1742601600-1742687999@tuksport.ee
SUMMARY:29. Noortesarja II/Vichy etapp
DESCRIPTION:📄 Võistlusjuhend \n🏁 Stardiprotokoll \n🔴 Realajas tulemused \n⏱️ Tulemused
URL:https://tuksport.ee/kalender/29-noortesarja-ii-etapp/
LOCATION:Keila Tervisekeskuse ujula\, Paldiski mnt 17\, Keila\, Eesti
CATEGORIES:Võistlused
END:VEVENT
BEGIN:VEVENT
DTSTART;VALUE=DATE:20250329
DTEND;VALUE=DATE:20250331
DTSTAMP:20260420T112413
CREATED:20250325T193501Z
LAST-MODIFIED:20250331T071138Z
UID:13247-1743206400-1743379199@tuksport.ee
SUMMARY:XIV Eesti karikavõistlused ujumises 2025
DESCRIPTION:📄 Võistlusjuhend \n⏱️ Tulemused
URL:https://tuksport.ee/kalender/xiv-eesti-karikavoistlused-ujumises-2025/
LOCATION:Aura veekeskus\, Turu 10\, Tartu\, Eesti
CATEGORIES:Võistlused
END:VEVENT
END:VCALENDAR