BEGIN:VCALENDAR
VERSION:2.0
PRODID:-//TUK - ECPv6.10.2//NONSGML v1.0//EN
CALSCALE:GREGORIAN
METHOD:PUBLISH
X-WR-CALNAME:TUK
X-ORIGINAL-URL:https://tuksport.ee
X-WR-CALDESC:Events for TUK
REFRESH-INTERVAL;VALUE=DURATION:PT1H
X-Robots-Tag:noindex
X-PUBLISHED-TTL:PT1H
BEGIN:VTIMEZONE
TZID:Europe/Helsinki
BEGIN:DAYLIGHT
TZOFFSETFROM:+0200
TZOFFSETTO:+0300
TZNAME:EEST
DTSTART:20230326T010000
END:DAYLIGHT
BEGIN:STANDARD
TZOFFSETFROM:+0300
TZOFFSETTO:+0200
TZNAME:EET
DTSTART:20231029T010000
END:STANDARD
BEGIN:DAYLIGHT
TZOFFSETFROM:+0200
TZOFFSETTO:+0300
TZNAME:EEST
DTSTART:20240331T010000
END:DAYLIGHT
BEGIN:STANDARD
TZOFFSETFROM:+0300
TZOFFSETTO:+0200
TZNAME:EET
DTSTART:20241027T010000
END:STANDARD
END:VTIMEZONE
BEGIN:VEVENT
DTSTART;VALUE=DATE:20240420
DTEND;VALUE=DATE:20240421
DTSTAMP:20260420T122752
CREATED:20240123T173805Z
LAST-MODIFIED:20240408T181527Z
UID:12417-1713571200-1713657599@tuksport.ee
SUMMARY:Laste Karikas II etapp 2024
DESCRIPTION:📄 Võistlusjuhend
URL:https://tuksport.ee/kalender/laste-karikas-ii-etapp-2024/
LOCATION:Sõle Spordikeskus\, Sõle 40a\, Tallinn\, 10317\, Eesti
CATEGORIES:Võistlused
END:VEVENT
BEGIN:VEVENT
DTSTART;VALUE=DATE:20240414
DTEND;VALUE=DATE:20240415
DTSTAMP:20260420T122752
CREATED:20240306T123713Z
LAST-MODIFIED:20240306T123713Z
UID:12609-1713052800-1713139199@tuksport.ee
SUMMARY:Kadrina basseinitriatlon
DESCRIPTION:📄 Võistlusjuhend
URL:https://tuksport.ee/kalender/kadrina-basseinitriatlon/
LOCATION:Kadrina Spordikeskus\, Rakvere tee 14\, Kadrina\, Eesti
CATEGORIES:Võistlused
END:VEVENT
BEGIN:VEVENT
DTSTART;VALUE=DATE:20240412
DTEND;VALUE=DATE:20240415
DTSTAMP:20260420T122752
CREATED:20231125T174602Z
LAST-MODIFIED:20240414T185921Z
UID:12320-1712880000-1713139199@tuksport.ee
SUMMARY:MadWave Challenge 2024
DESCRIPTION:📄 Juhend EST \n📄 Rules and regulations ENG \n🏁 Startlist \n🔴 Reaalajas tulemused/Live results \n⏰ Võistluste ajakava/schedule:\n1️⃣ session Friday\, 12. april – start 17.30\, (warmup 16.40)\n2️⃣ session Saturday\, 13. april – start 11.00\, (warmup 10.20)\n3️⃣ session Saturday\, 13. april – start 17.30\, (warmup 16.40)\n4️⃣ session Sunday\, 14. april – start 11.00\, (warmup 10.20) \n📸 Pildigalerii/Photos \n⏱️ Tulemused/Results
URL:https://tuksport.ee/kalender/madwave-challenge-2024/
LOCATION:Aura veekeskus\, Turu 10\, Tartu\, Eesti
CATEGORIES:Võistlused
END:VEVENT
BEGIN:VEVENT
DTSTART;VALUE=DATE:20240407
DTEND;VALUE=DATE:20240408
DTSTAMP:20260420T122752
CREATED:20240220T074733Z
LAST-MODIFIED:20240407T155928Z
UID:12553-1712448000-1712534399@tuksport.ee
SUMMARY:Abja Kevad/Sakalamaa Angerjas IV etapp
DESCRIPTION:🔴 Reaalajas tulemused ja stardiprotokoll
URL:https://tuksport.ee/kalender/abja-kevad-sakalamaa-angerjas-iv-etapp/
LOCATION:Abja Spordi- ja Tervisekeskus\, Abja tee 15\, Abja-Paluoja\, Eesti
CATEGORIES:Võistlused
END:VEVENT
BEGIN:VEVENT
DTSTART;VALUE=DATE:20240406
DTEND;VALUE=DATE:20240407
DTSTAMP:20260420T122752
CREATED:20231125T174420Z
LAST-MODIFIED:20240407T093412Z
UID:12318-1712361600-1712447999@tuksport.ee
SUMMARY:Noortesarja II etapp
DESCRIPTION:📄  Üldjuhend \n📄 Võistlusjuhend \n⏱️ Tulemused
URL:https://tuksport.ee/kalender/noortesari-ii-etapp-2024/
LOCATION:Keila Tervisekeskuse ujula\, Paldiski mnt 17\, Keila\, Eesti
CATEGORIES:Võistlused
END:VEVENT
BEGIN:VEVENT
DTSTART;VALUE=DATE:20240331
DTEND;VALUE=DATE:20240402
DTSTAMP:20260420T122752
CREATED:20231125T174304Z
LAST-MODIFIED:20231125T174316Z
UID:12316-1711843200-1712015999@tuksport.ee
SUMMARY:Helsinki Swim Meet
DESCRIPTION:Info on täiendamisel.
URL:https://tuksport.ee/kalender/helsinki-swim-meet-2024/
CATEGORIES:Võistlused
END:VEVENT
BEGIN:VEVENT
DTSTART;VALUE=DATE:20240330
DTEND;VALUE=DATE:20240331
DTSTAMP:20260420T122752
CREATED:20231125T174144Z
LAST-MODIFIED:20231125T174144Z
UID:12314-1711756800-1711843199@tuksport.ee
SUMMARY:Kohtla-Järve Meistrivõistlused
DESCRIPTION:Info on täiendamisel.
URL:https://tuksport.ee/kalender/kohtla-jarve-meistrivoistlused-2024/
END:VEVENT
BEGIN:VEVENT
DTSTART;VALUE=DATE:20240323
DTEND;VALUE=DATE:20240325
DTSTAMP:20260420T122752
CREATED:20240123T172537Z
LAST-MODIFIED:20240322T181449Z
UID:12407-1711152000-1711324799@tuksport.ee
SUMMARY:Baltimaade Meistrivõistlused
DESCRIPTION:📄 Juhend \n🔴 Reaalajas tulemused
URL:https://tuksport.ee/kalender/baltimaade-meistrivoistlused/
END:VEVENT
BEGIN:VEVENT
DTSTART;VALUE=DATE:20240323
DTEND;VALUE=DATE:20240324
DTSTAMP:20260420T122752
CREATED:20231125T174058Z
LAST-MODIFIED:20240322T181104Z
UID:12312-1711152000-1711238399@tuksport.ee
SUMMARY:Tartu Tähed
DESCRIPTION:📄 Võistlusjuhend \n⏱️  I osa stardiprotokoll \n⏱️ II osa stardiprotokoll \n🔴 Reaalajas tulemused
URL:https://tuksport.ee/kalender/tartu-tahed-2/
LOCATION:Aura veekeskus\, Turu 10\, Tartu\, Eesti
CATEGORIES:Võistlused
END:VEVENT
BEGIN:VEVENT
DTSTART;VALUE=DATE:20240317
DTEND;VALUE=DATE:20240318
DTSTAMP:20260420T122752
CREATED:20240317T162028Z
LAST-MODIFIED:20240322T181244Z
UID:12620-1710633600-1710719999@tuksport.ee
SUMMARY:Uju ja jookse III etapp
DESCRIPTION:⏱️ Stardiprotokoll ja tulemused
URL:https://tuksport.ee/kalender/uju-ja-jookse-iii-etapp/
END:VEVENT
BEGIN:VEVENT
DTSTART;VALUE=DATE:20240309
DTEND;VALUE=DATE:20240310
DTSTAMP:20260420T122752
CREATED:20240311T054805Z
LAST-MODIFIED:20240311T054805Z
UID:12615-1709942400-1710028799@tuksport.ee
SUMMARY:Taliujumise meistrivõistlused 2024
DESCRIPTION:⏱️ Tulemused
URL:https://tuksport.ee/kalender/taliujumise-meistrivoistlused-2024/
CATEGORIES:Võistlused
END:VEVENT
BEGIN:VEVENT
DTSTART;VALUE=DATE:20240309
DTEND;VALUE=DATE:20240310
DTSTAMP:20260420T122752
CREATED:20240220T074458Z
LAST-MODIFIED:20240311T054530Z
UID:12548-1709942400-1710028799@tuksport.ee
SUMMARY:Karksi Sport kevadvõistlus/ Sakalamaa Angerjas III etapp
DESCRIPTION:📄 Võistlusjuhend \n⏱️ Tulemused
URL:https://tuksport.ee/kalender/karksi-sport-kevadvoistlus-sakalamaa-angerjas-iii-etapp/
LOCATION:August Kitzbergi nimelise Gümnaasiumi ujula\, Kooli tn 1\, Karksi-Nuia\, Eesti
CATEGORIES:Võistlused
END:VEVENT
BEGIN:VEVENT
DTSTART;VALUE=DATE:20240302
DTEND;VALUE=DATE:20240303
DTSTAMP:20260420T122752
CREATED:20240110T083622Z
LAST-MODIFIED:20240303T194234Z
UID:12373-1709337600-1709423999@tuksport.ee
SUMMARY:39. Eesti omavalitsuste talimängud
DESCRIPTION:📄 Võistlusjuhend \n⏰ Registreerimine kuni 27. veebruarini kell 23.59 \n🏁 Stardiprotokoll \n🔴 Reaalajas tulemused \n⏱️ Tulemused \n📷 Pildigalerii
URL:https://tuksport.ee/kalender/39-eesti-omavalitsuste-talimangud/
LOCATION:Aura veekeskus\, Turu 10\, Tartu\, Eesti
END:VEVENT
BEGIN:VEVENT
DTSTART;VALUE=DATE:20240301
DTEND;VALUE=DATE:20240304
DTSTAMP:20260420T122752
CREATED:20231125T173833Z
LAST-MODIFIED:20240301T162507Z
UID:12308-1709251200-1709510399@tuksport.ee
SUMMARY:Läti juunioride ja noorte meistrivõistlused
DESCRIPTION:🔴 Reaalajas tulemused
URL:https://tuksport.ee/kalender/lati-meistrivoistlused-2024/
END:VEVENT
BEGIN:VEVENT
DTSTART;VALUE=DATE:20240218
DTEND;VALUE=DATE:20240219
DTSTAMP:20260420T122752
CREATED:20240212T184643Z
LAST-MODIFIED:20240219T074106Z
UID:12495-1708214400-1708300799@tuksport.ee
SUMMARY:Eesti meistrivõistlused 2023 1500 m ujumises
DESCRIPTION:📄   Võistlusjuhend \n⏳ Normatiivid 25 m basseinis (võib olla täidetud ka 50 m basseinis):\nNaised 20.45\,93\, juuniorid 21.13\,02\, noored 21.42\,64\nMehed 18.46\,39\, juuniorid 19.34\,38\, noored 20.01\,70 \n⏰ Ülesandmine lõppeb teisipäeval\, 13.veebruaril kell 23:59. \n⏱️ Tulemused
URL:https://tuksport.ee/kalender/eesti-meistrivoistlused-2023-1500-m-ujumises/
LOCATION:Sõle Spordikeskus\, Sõle 40a\, Tallinn\, 10317\, Eesti
CATEGORIES:Võistlused
END:VEVENT
BEGIN:VEVENT
DTSTART;VALUE=DATE:20240217
DTEND;VALUE=DATE:20240218
DTSTAMP:20260420T122752
CREATED:20231125T173210Z
LAST-MODIFIED:20240217T183427Z
UID:12302-1708128000-1708214399@tuksport.ee
SUMMARY:Edasi Ühel Lainel
DESCRIPTION:📄 Võistlusjuhend \n🏁 Stardiprotokoll \n⏱️ Tulemused reaalajas \n⏱️ Tulemused \n📷 Pildigalerii
URL:https://tuksport.ee/kalender/edasi-uhel-lainel-2024/
LOCATION:Aura veekeskus\, Turu 10\, Tartu\, Eesti
CATEGORIES:Võistlused
END:VEVENT
BEGIN:VEVENT
DTSTART;VALUE=DATE:20240217
DTEND;VALUE=DATE:20240218
DTSTAMP:20260420T122752
CREATED:20231125T172733Z
LAST-MODIFIED:20240217T182807Z
UID:12300-1708128000-1708214399@tuksport.ee
SUMMARY:Anna Hoogu
DESCRIPTION:Anna Hoogu on erivajadustega inimestele suunatud ujumisvõistlus\, mis toimub juba 16. korda. Igaüks väärib võimalust! \nVõistluse eestvedaja\, korraldaja ja taganttorkija on TUKi treener Marge Kõrkjas\, kes on ujumisega tegelenud juba väiksest peale ning tema tulemuste nimekiri on muljetavaldav. \n👉 Loe võistluse kohta rohkem TUKi blogipostitusest. \n👉 Tutvu võistluse juhendiga. \n👉 Võistlusele saab registreerida Swimrankings keskkonnas või saates täidetud registreerimislehe marge@tuksport.ee \n🏁 Stardiprotokoll \n⏱️ Tulemused reaalajas \n⏱️ Tulemused \n📷 Pildigalerii
URL:https://tuksport.ee/kalender/anna-hoogu-2024/
LOCATION:Aura veekeskus\, Turu 10\, Tartu\, Eesti
CATEGORIES:Võistlused
END:VEVENT
BEGIN:VEVENT
DTSTART;VALUE=DATE:20240217
DTEND;VALUE=DATE:20240218
DTSTAMP:20260420T122752
CREATED:20231125T173657Z
LAST-MODIFIED:20240217T180856Z
UID:12306-1708128000-1708214399@tuksport.ee
SUMMARY:Noortesarja I etapp
DESCRIPTION:📄 Võistlusjuhend \n🏁 Stardiprotkoll \n⏱️ Tulemused \n 
URL:https://tuksport.ee/kalender/noortesari-i-etapp-2024/
LOCATION:Wiru Spordikeskus\, Järveküla tee 41\, Kohtla-Järve\, Ida-Virumaa\, 30321
CATEGORIES:Võistlused
END:VEVENT
BEGIN:VEVENT
DTSTART;VALUE=DATE:20240211
DTEND;VALUE=DATE:20240219
DTSTAMP:20260420T122752
CREATED:20231125T171335Z
LAST-MODIFIED:20231125T171335Z
UID:12298-1707609600-1708300799@tuksport.ee
SUMMARY:Maailmameistrivõistlused ujumises
DESCRIPTION:
URL:https://tuksport.ee/kalender/maailmameistrivoistlused-ujumises-2024/
CATEGORIES:Võistlused
END:VEVENT
BEGIN:VEVENT
DTSTART;VALUE=DATE:20240211
DTEND;VALUE=DATE:20240212
DTSTAMP:20260420T122752
CREATED:20240211T193617Z
LAST-MODIFIED:20240212T190026Z
UID:12486-1707609600-1707695999@tuksport.ee
SUMMARY:Viljandimaa meistrivõistlused ujumises 2024 „Sakalamaa angerjas“ II etapp
DESCRIPTION:📄 Võistlusjuhend \n⏱️ Stardiprotokoll ja tulemused
URL:https://tuksport.ee/kalender/viljandimaa-meistrivoistlused-ujumises-2024-sakalamaa-angerjas-ii-etapp/
LOCATION:Viljandi Jakobsoni Kool\, Riia mnt. 91\, Viljandi\, Viljandimaa\, 71009\, Eesti
CATEGORIES:Võistlused
END:VEVENT
BEGIN:VEVENT
DTSTART;VALUE=DATE:20240210
DTEND;VALUE=DATE:20240211
DTSTAMP:20260420T122752
CREATED:20240211T194156Z
LAST-MODIFIED:20240212T190049Z
UID:12490-1707523200-1707609599@tuksport.ee
SUMMARY:Eesti lahtised üliõpilaste meistrivõistlused ujumises 2024
DESCRIPTION:📄 Võistlusjuhend \n🏁 Stardiprotokoll \n⏱️ Tulemused
URL:https://tuksport.ee/kalender/eesti-lahtised-uliopilaste-meistrivoistlused-ujumises-2024/
LOCATION:Aura veekeskus\, Turu 10\, Tartu\, Eesti
CATEGORIES:Võistlused
END:VEVENT
BEGIN:VEVENT
DTSTART;VALUE=DATE:20240210
DTEND;VALUE=DATE:20240211
DTSTAMP:20260420T122752
CREATED:20240123T171437Z
LAST-MODIFIED:20240210T171115Z
UID:12402-1707523200-1707609599@tuksport.ee
SUMMARY:Mega Swim 2024
DESCRIPTION:Võistlus toimub 10. veebruaril Kohtla-Järve Wiru Spordikeskuses.\nÜlesandmised Swimrankingu keskkonnas 05.02.2024 kella 23:59-ni. \n📄 Juhend \n🏁 Stardiprotokoll \n⏱️ Tulemused
URL:https://tuksport.ee/kalender/eesti-meistrivoistlused-1500-m-ujumises-2023-mega-swim-2024/
LOCATION:Wiru Spordikeskus\, Järveküla tee 41\, Kohtla-Järve\, Ida-Virumaa\, 30328\, Eesti
END:VEVENT
BEGIN:VEVENT
DTSTART;VALUE=DATE:20240204
DTEND;VALUE=DATE:20240205
DTSTAMP:20260420T122752
CREATED:20231125T171133Z
LAST-MODIFIED:20240205T213216Z
UID:12296-1707004800-1707091199@tuksport.ee
SUMMARY:Uju ja jookse
DESCRIPTION:⏱️ Tulemused
URL:https://tuksport.ee/kalender/uju-ja-jookse-2024/
CATEGORIES:Võistlused
END:VEVENT
BEGIN:VEVENT
DTSTART;VALUE=DATE:20240203
DTEND;VALUE=DATE:20240204
DTSTAMP:20260420T122752
CREATED:20240123T173528Z
LAST-MODIFIED:20240408T181306Z
UID:12410-1706918400-1707004799@tuksport.ee
SUMMARY:Laste Karikas I etapp 2024
DESCRIPTION:📄 Võistlusjuhend
URL:https://tuksport.ee/kalender/laste-karikas-i-etapp-2024/
LOCATION:Sõle Spordikeskus\, Sõle 40a\, Tallinn\, 10317\, Eesti
CATEGORIES:Võistlused
END:VEVENT
BEGIN:VEVENT
DTSTART;VALUE=DATE:20240127
DTEND;VALUE=DATE:20240128
DTSTAMP:20260420T122752
CREATED:20231125T165511Z
LAST-MODIFIED:20240129T180959Z
UID:12292-1706313600-1706399999@tuksport.ee
SUMMARY:Speedo Räimeralli I etapp
DESCRIPTION:📄 Võistlusjuhend \n🏁 Startlist \n⏱ Tulemused
URL:https://tuksport.ee/kalender/speedo-raimeralli-i-etapp-2024/
LOCATION:Aura veekeskus\, Turu 10\, Tartu\, Eesti
CATEGORIES:Võistlused
END:VEVENT
BEGIN:VEVENT
DTSTART;VALUE=DATE:20240120
DTEND;VALUE=DATE:20240121
DTSTAMP:20260420T122752
CREATED:20231125T165811Z
LAST-MODIFIED:20240116T104601Z
UID:12294-1705708800-1705795199@tuksport.ee
SUMMARY:Eesti Ujumisliidu Gala
DESCRIPTION:Koht: Eesti Rahva Muuseumis (Muuseumi tee 2\, Tartu) \nAeg: 20. jaanuaril algusega kell 18.00 \nRiietus: pidulik
URL:https://tuksport.ee/kalender/eesti-ujumisliidu-gala/
END:VEVENT
BEGIN:VEVENT
DTSTART;VALUE=DATE:20231228
DTEND;VALUE=DATE:20231230
DTSTAMP:20260420T122752
CREATED:20231125T173457Z
LAST-MODIFIED:20231125T173457Z
UID:12304-1703721600-1703894399@tuksport.ee
SUMMARY:TUKsport jõulupidu
DESCRIPTION:
URL:https://tuksport.ee/kalender/tuksport-joulupidu/
CATEGORIES:Üritus
END:VEVENT
BEGIN:VEVENT
DTSTART;VALUE=DATE:20231220
DTEND;VALUE=DATE:20231223
DTSTAMP:20260420T122752
CREATED:20231125T124243Z
LAST-MODIFIED:20231125T125035Z
UID:12281-1703030400-1703289599@tuksport.ee
SUMMARY:Eesti Lühiraja Meistrivõistlused ujumises
DESCRIPTION:Võistlus toimub Kohtla-Järve Wiru Spordikompleksi 25 m ujulas 6-osalisena.\n⭐️ Eelülesandmised (sh teateujumised) esitada Swimrankingusse hiljemalt 13.12.2023 kell 23:59. \nVõistluste algus:\n1. osa kl. 09:30 (soojendus 08:30)\n2. osa kl. 17:00 (soojendus 16:00)\n3. osa kl. 09:30 (soojendus 08:30)\n4. osa kl. 17:00 (soojendus 16:00)\n5. osa kl. 09:30 (soojendus 08:30)\n6. osa kl. 16:00 (soojendus 15:00)
URL:https://tuksport.ee/kalender/eesti-luhiraja-meistrivoistlused-ujumises/
LOCATION:Wiru Spordikeskus\, Järveküla tee 41\, Kohtla-Järve\, Ida-Virumaa\, 30328\, Eesti
CATEGORIES:Võistlused
END:VEVENT
BEGIN:VEVENT
DTSTART;VALUE=DATE:20231216
DTEND;VALUE=DATE:20231217
DTSTAMP:20260420T122752
CREATED:20230821T073250Z
LAST-MODIFIED:20231125T164933Z
UID:11728-1702684800-1702771199@tuksport.ee
SUMMARY:Speedo Räimeralli FINAAL
DESCRIPTION:Räimeralli finaal toimub Aura Veekeskuses\, Turu 10. \nVõistlusele oodatakse kutsetega ujujaid. \n🏅 Finaalis autasustatakse kõikide vanuseklasside I-III koha poissi ja tüdrukut igal alal medali\, diplomi ja auhinnaga\, IV-VI kohta diplomiga ja maiusega. Finaalis autasustatakse parimat poissi ja tüdrukut Voldemar Hünersoni eriauhinnaga. Finaalis toovad ujujad ja teatevõistkonnad kõikidel aladel oma klubile punkte ning esimest kolme klubi autasustatakse karikatega:
URL:https://tuksport.ee/kalender/speedo-raimeralli-finaal/
LOCATION:Aura veekeskus\, Turu 10\, Tartu\, Eesti
CATEGORIES:Võistlused
END:VEVENT
BEGIN:VEVENT
DTSTART;VALUE=DATE:20231208
DTEND;VALUE=DATE:20231210
DTSTAMP:20260420T122752
CREATED:20230824T113722Z
LAST-MODIFIED:20230824T113722Z
UID:11777-1701993600-1702166399@tuksport.ee
SUMMARY:Wiru Grand Prix
DESCRIPTION:Info on täiendamisel.
URL:https://tuksport.ee/kalender/wiru-grand-prix/
LOCATION:Wiru Spordikeskus\, Järveküla tee 41\, Kohtla-Järve\, Ida-Virumaa\, 30328\, Eesti
CATEGORIES:Võistlused
END:VEVENT
END:VCALENDAR