BEGIN:VCALENDAR
VERSION:2.0
PRODID:-//TUK - ECPv6.10.2//NONSGML v1.0//EN
CALSCALE:GREGORIAN
METHOD:PUBLISH
X-WR-CALNAME:TUK
X-ORIGINAL-URL:https://tuksport.ee
X-WR-CALDESC:Events for TUK
REFRESH-INTERVAL;VALUE=DURATION:PT1H
X-Robots-Tag:noindex
X-PUBLISHED-TTL:PT1H
BEGIN:VTIMEZONE
TZID:Europe/Helsinki
BEGIN:DAYLIGHT
TZOFFSETFROM:+0200
TZOFFSETTO:+0300
TZNAME:EEST
DTSTART:20250330T010000
END:DAYLIGHT
BEGIN:STANDARD
TZOFFSETFROM:+0300
TZOFFSETTO:+0200
TZNAME:EET
DTSTART:20251026T010000
END:STANDARD
END:VTIMEZONE
BEGIN:VEVENT
DTSTART;VALUE=DATE:20250607
DTEND;VALUE=DATE:20250608
DTSTAMP:20260420T164846
CREATED:20250422T171755Z
LAST-MODIFIED:20250607T112458Z
UID:13284-1749254400-1749340799@tuksport.ee
SUMMARY:Eesti masters-ujumise meistrivõistlused ja avatud klassi võistlused 2025
DESCRIPTION:📄 Võistlusjuhend \n Stardiprotokoll \n Reaalajas tulemused
URL:https://tuksport.ee/kalender/eesti-masters-ujumise-meistrivoistlused-ja-avatud-klassi-voistlused-2025/
LOCATION:Aura veekeskus\, Turu 10\, Tartu\, Eesti
CATEGORIES:Võistlused
END:VEVENT
BEGIN:VEVENT
DTSTART;VALUE=DATE:20250607
DTEND;VALUE=DATE:20250608
DTSTAMP:20260420T164846
CREATED:20250422T171933Z
LAST-MODIFIED:20250422T173446Z
UID:13287-1749254400-1749340799@tuksport.ee
SUMMARY:Eesti lahtised üliõpilaste meistrivõistlused ujumises 2025
DESCRIPTION:📄 Võistlusjuhend (juhend all pool)
URL:https://tuksport.ee/kalender/eesti-lahtised-uliopilaste-meistrivoistlused-ujumises-2025/
LOCATION:Aura veekeskus\, Turu 10\, Tartu\, Eesti
CATEGORIES:Võistlused
END:VEVENT
BEGIN:VEVENT
DTSTART;VALUE=DATE:20250607
DTEND;VALUE=DATE:20250608
DTSTAMP:20260420T164846
CREATED:20250505T081958Z
LAST-MODIFIED:20250505T081958Z
UID:13293-1749254400-1749340799@tuksport.ee
SUMMARY:Turbo Junior Cup XI
DESCRIPTION:📄 Võistlusjuhend
URL:https://tuksport.ee/kalender/turbo-junior-cup-xi/
LOCATION:Keila Tervisekeskuse ujula\, Paldiski mnt 17\, Keila\, Eesti
CATEGORIES:Võistlused
END:VEVENT
BEGIN:VEVENT
DTSTART;VALUE=DATE:20250608
DTEND;VALUE=DATE:20250609
DTSTAMP:20260420T164846
CREATED:20250322T174215Z
LAST-MODIFIED:20250322T174215Z
UID:13242-1749340800-1749427199@tuksport.ee
SUMMARY:Lotte Cup 2025
DESCRIPTION:📄 Võistlusjuhend
URL:https://tuksport.ee/kalender/lotte-cup-2025/
LOCATION:Keila Tervisekeskuse ujula\, Paldiski mnt 17\, Keila\, Eesti
CATEGORIES:Võistlused
END:VEVENT
BEGIN:VEVENT
DTSTART;VALUE=DATE:20250614
DTEND;VALUE=DATE:20250615
DTSTAMP:20260420T164846
CREATED:20250109T090655Z
LAST-MODIFIED:20250415T103727Z
UID:13113-1749859200-1749945599@tuksport.ee
SUMMARY:Arena Noortesari Sportland etapp
DESCRIPTION:📄 Üldjuhend \n📄 Võistlusjuhend
URL:https://tuksport.ee/kalender/29-noortesarja-iii-etapp/
LOCATION:Pärnu Raja ujula
CATEGORIES:Võistlused
END:VEVENT
BEGIN:VEVENT
DTSTART;VALUE=DATE:20250615
DTEND;VALUE=DATE:20250616
DTSTAMP:20260420T164846
CREATED:20250617T095355Z
LAST-MODIFIED:20250617T095355Z
UID:13324-1749945600-1750031999@tuksport.ee
SUMMARY:VII Karksi-Nuia avaveeujumine 2025
DESCRIPTION:🏁 Tulemused
URL:https://tuksport.ee/kalender/vii-karksi-nuia-avaveeujumine-2025/
LOCATION:Karksi-Nuia paisjärv
CATEGORIES:Võistlused
END:VEVENT
BEGIN:VEVENT
DTSTART;VALUE=DATE:20250618
DTEND;VALUE=DATE:20250621
DTSTAMP:20260420T164846
CREATED:20250609T073334Z
LAST-MODIFIED:20250624T152929Z
UID:13312-1750204800-1750463999@tuksport.ee
SUMMARY:106. Eesti meistrivõistlused. Eesti juunioride ja noorte meistrivõistlused
DESCRIPTION:📄 Võistlusjuhend \n Stardiprotokoll \n🔴 Reaalajas tulemused \n🕐 Eelujumised algusega kell 9.30 ja finaalid kell 17.00 (reedel kell 16.00) \n⏱️ Tulemused
URL:https://tuksport.ee/kalender/106-eesti-meistrivoistlused-eesti-juunioride-ja-noorte-meistrivoistlused/
LOCATION:Aura veekeskus\, Turu 10\, Tartu\, Eesti
CATEGORIES:Võistlused
END:VEVENT
BEGIN:VEVENT
DTSTART;VALUE=DATE:20250628
DTEND;VALUE=DATE:20250629
DTSTAMP:20260420T164846
CREATED:20250520T083807Z
LAST-MODIFIED:20250520T083807Z
UID:13298-1751068800-1751155199@tuksport.ee
SUMMARY:ARENA KEILA CUP XXIV
DESCRIPTION:📄 Võistlusjuhend
URL:https://tuksport.ee/kalender/arena-keila-cup-xxiv/
LOCATION:Keila Tervisekeskuse ujula\, Paldiski mnt 17\, Keila\, Eesti
CATEGORIES:Võistlused
END:VEVENT
BEGIN:VEVENT
DTSTART;VALUE=DATE:20250628
DTEND;VALUE=DATE:20250629
DTSTAMP:20260420T164846
CREATED:20250617T101258Z
LAST-MODIFIED:20250617T101258Z
UID:13328-1751068800-1751155199@tuksport.ee
SUMMARY:5. Haapsalu – Österby avaveeujumine
DESCRIPTION:📄 Võistlusjuhend
URL:https://tuksport.ee/kalender/5-haapsalu-osterby-avaveeujumine/
LOCATION:Haapsalu
CATEGORIES:Võistlused
END:VEVENT
BEGIN:VEVENT
DTSTART;VALUE=DATE:20250713
DTEND;VALUE=DATE:20250714
DTSTAMP:20260420T164846
CREATED:20250617T102140Z
LAST-MODIFIED:20250617T102140Z
UID:13332-1752364800-1752451199@tuksport.ee
SUMMARY:Elva avaveeujumine 2025
DESCRIPTION:📄 Võistlusjuhend
URL:https://tuksport.ee/kalender/elva-avaveeujumine-2025/
LOCATION:Verevi järv
CATEGORIES:Võistlused
END:VEVENT
BEGIN:VEVENT
DTSTART;VALUE=DATE:20250716
DTEND;VALUE=DATE:20250728
DTSTAMP:20260420T164846
CREATED:20241030T194659Z
LAST-MODIFIED:20241030T194659Z
UID:13035-1752624000-1753660799@tuksport.ee
SUMMARY:Ülemaailmsed üliõpilasmängud
DESCRIPTION:Võstlusjuhend
URL:https://tuksport.ee/kalender/ulemaailmsed-uliopilasmangud/
LOCATION:Saksamaa
CATEGORIES:Võistlused
END:VEVENT
BEGIN:VEVENT
DTSTART;VALUE=DATE:20250726
DTEND;VALUE=DATE:20250727
DTSTAMP:20260420T164846
CREATED:20250617T102340Z
LAST-MODIFIED:20250617T102340Z
UID:13336-1753488000-1753574399@tuksport.ee
SUMMARY:32. Väikese väina avaveeujumine
DESCRIPTION:📄 Võistlusjuhend
URL:https://tuksport.ee/kalender/32-vaikese-vaina-avaveeujumine/
LOCATION:Orissaare
CATEGORIES:Võistlused
END:VEVENT
BEGIN:VEVENT
DTSTART;VALUE=DATE:20250802
DTEND;VALUE=DATE:20250803
DTSTAMP:20260420T164846
CREATED:20250617T102509Z
LAST-MODIFIED:20250617T102509Z
UID:13340-1754092800-1754179199@tuksport.ee
SUMMARY:5. O. Lukini mälestusvõistlus
DESCRIPTION:
URL:https://tuksport.ee/kalender/5-o-lukini-malestusvoistlus/
CATEGORIES:Võistlused
END:VEVENT
BEGIN:VEVENT
DTSTART;VALUE=DATE:20250803
DTEND;VALUE=DATE:20250804
DTSTAMP:20260420T164846
CREATED:20250617T102554Z
LAST-MODIFIED:20250617T193029Z
UID:13343-1754179200-1754265599@tuksport.ee
SUMMARY:Tabivere avaveeujumine 2025
DESCRIPTION:
URL:https://tuksport.ee/kalender/tabivere-avaveeujumine-2025/
LOCATION:Tabivere rand
CATEGORIES:Võistlused
END:VEVENT
BEGIN:VEVENT
DTSTART;VALUE=DATE:20250809
DTEND;VALUE=DATE:20250810
DTSTAMP:20260420T164846
CREATED:20250617T102627Z
LAST-MODIFIED:20250617T102627Z
UID:13347-1754697600-1754783999@tuksport.ee
SUMMARY:Avaveeujumise Eesti MV 4x1\,5 km teateujumises
DESCRIPTION:
URL:https://tuksport.ee/kalender/avaveeujumise-eesti-mv-4x15-km-teateujumises/
CATEGORIES:Võistlused
END:VEVENT
BEGIN:VEVENT
DTSTART;VALUE=DATE:20250810
DTEND;VALUE=DATE:20250811
DTSTAMP:20260420T164846
CREATED:20250617T102647Z
LAST-MODIFIED:20250617T102647Z
UID:13350-1754784000-1754870399@tuksport.ee
SUMMARY:Avaveeujumise Eesti MV 5 km
DESCRIPTION:
URL:https://tuksport.ee/kalender/avaveeujumise-eesti-mv-5-km/
CATEGORIES:Võistlused
END:VEVENT
BEGIN:VEVENT
DTSTART;VALUE=DATE:20250817
DTEND;VALUE=DATE:20250818
DTSTAMP:20260420T164846
CREATED:20250617T102725Z
LAST-MODIFIED:20250617T102725Z
UID:13352-1755388800-1755475199@tuksport.ee
SUMMARY:G. Otsa mälestusvõistlus 2025
DESCRIPTION:
URL:https://tuksport.ee/kalender/g-otsa-malestusvoistlus-2025/
CATEGORIES:Võistlused
END:VEVENT
BEGIN:VEVENT
DTSTART;VALUE=DATE:20250920
DTEND;VALUE=DATE:20250921
DTSTAMP:20260420T164846
CREATED:20250923T184718Z
LAST-MODIFIED:20250923T184718Z
UID:13510-1758326400-1758412799@tuksport.ee
SUMMARY:Tartu linna meistrivõistlused ujumises 2025
DESCRIPTION:📄 Võistlusjuhend \n🏁 Tulemused
URL:https://tuksport.ee/kalender/tartu-linna-meistrivoistlused-ujumises-2025/
LOCATION:Aura veekeskus\, Turu 10\, Tartu\, Eesti
CATEGORIES:Võistlused
END:VEVENT
BEGIN:VEVENT
DTSTART;VALUE=DATE:20250927
DTEND;VALUE=DATE:20250929
DTSTAMP:20260420T164846
CREATED:20250616T063102Z
LAST-MODIFIED:20250928T195538Z
UID:13315-1758931200-1759103999@tuksport.ee
SUMMARY:Aura Open Cup 2025
DESCRIPTION:📄 Võistlusjuhend \n⏱️ Stardiprotokoll \n🔴 Reaalajas tulemused \n🏁 Tulemused
URL:https://tuksport.ee/kalender/aura-open-cup-2025/
LOCATION:Aura veekeskus\, Turu 10\, Tartu\, Eesti
END:VEVENT
BEGIN:VEVENT
DTSTART;VALUE=DATE:20251010
DTEND;VALUE=DATE:20251012
DTSTAMP:20260420T164846
CREATED:20251013T185159Z
LAST-MODIFIED:20251014T070322Z
UID:13567-1760054400-1760227199@tuksport.ee
SUMMARY:Lahtised mastersujumise Põhjamaade meistrivõistlused
DESCRIPTION:🏁 Tulemused
URL:https://tuksport.ee/kalender/lahtised-mastersujumise-pohjamaade-meistrivoistlused/
LOCATION:Kalev SPA Veekeskus\, Aia 18\, Tallinn\, Harjumaa\, Eesti
CATEGORIES:Võistlused
END:VEVENT
BEGIN:VEVENT
DTSTART;VALUE=DATE:20251011
DTEND;VALUE=DATE:20251012
DTSTAMP:20260420T164846
CREATED:20251013T183438Z
LAST-MODIFIED:20251013T183438Z
UID:13564-1760140800-1760227199@tuksport.ee
SUMMARY:18. Tartu Pikamaaujumine
DESCRIPTION:🏁 Tulemused
URL:https://tuksport.ee/kalender/18-tartu-pikamaaujumine/
LOCATION:Aura veekeskus\, Turu 10\, Tartu\, Eesti
CATEGORIES:Võistlused
END:VEVENT
BEGIN:VEVENT
DTSTART;VALUE=DATE:20251018
DTEND;VALUE=DATE:20251019
DTSTAMP:20260420T164846
CREATED:20241231T072525Z
LAST-MODIFIED:20251019T110703Z
UID:13102-1760745600-1760831999@tuksport.ee
SUMMARY:Speedo Räimeralli III etapp
DESCRIPTION:📄 Võistlusjuhend \n⏱️ Stardiprotokoll \n🔴 Reaalajas tulemused \n🏁 Tulemused
URL:https://tuksport.ee/kalender/speedo-raimeralli-iii-etapp-3/
LOCATION:Aura veekeskus\, Turu 10\, Tartu\, Eesti
CATEGORIES:Võistlused
END:VEVENT
BEGIN:VEVENT
DTSTART;VALUE=DATE:20251101
DTEND;VALUE=DATE:20251102
DTSTAMP:20260420T164846
CREATED:20250109T090746Z
LAST-MODIFIED:20250109T090746Z
UID:13115-1761955200-1762041599@tuksport.ee
SUMMARY:29. Noortesarja IV etapp
DESCRIPTION:📄 Võistlusjuhend
URL:https://tuksport.ee/kalender/29-noortesarja-iv-etapp/
LOCATION:Wiru Spordikeskus\, Järveküla tee 41\, Kohtla-Järve\, Ida-Virumaa\, 30328\, Eesti
CATEGORIES:Võistlused
END:VEVENT
BEGIN:VEVENT
DTSTART;VALUE=DATE:20251101
DTEND;VALUE=DATE:20251102
DTSTAMP:20260420T164846
CREATED:20250917T062815Z
LAST-MODIFIED:20260123T080639Z
UID:13486-1761955200-1762041599@tuksport.ee
SUMMARY:Arena Noortesari Nordaid etapp
DESCRIPTION:📄 Võistlusjuhend
URL:https://tuksport.ee/kalender/arena-noortesari-nordaid-etapp/
LOCATION:Wiru Spordikeskus\, Järveküla tee 41\, Kohtla-Järve\, Ida-Virumaa\, 30321
CATEGORIES:Võistlused
END:VEVENT
BEGIN:VEVENT
DTSTART;VALUE=DATE:20251114
DTEND;VALUE=DATE:20251117
DTSTAMP:20260420T164846
CREATED:20250917T062554Z
LAST-MODIFIED:20251117T103007Z
UID:13484-1763078400-1763337599@tuksport.ee
SUMMARY:Eesti juunioride ja noorte lühiraja meistrivõistlused 2025
DESCRIPTION:📄 Võistlusjuhend \n🏁 Stardiprotokoll \n🔴 Reaalajas tulemused \n⏱️ Tulemused
URL:https://tuksport.ee/kalender/eesti-juunioride-ja-noorte-luhiraja-meistrivoistlused-2025/
LOCATION:Wiru Spordikeskus\, Järveküla tee 41\, Kohtla-Järve\, Ida-Virumaa\, 30321
CATEGORIES:Võistlused
END:VEVENT
BEGIN:VEVENT
DTSTART;VALUE=DATE:20251122
DTEND;VALUE=DATE:20251123
DTSTAMP:20260420T164846
CREATED:20251125T085356Z
LAST-MODIFIED:20251125T085356Z
UID:13626-1763769600-1763855999@tuksport.ee
SUMMARY:EMV ujumises puudega inimestele 2025
DESCRIPTION:⏱️ Tulemused
URL:https://tuksport.ee/kalender/emv-ujumises-puudega-inimestele-2025/
CATEGORIES:Võistlused
END:VEVENT
BEGIN:VEVENT
DTSTART;VALUE=DATE:20251122
DTEND;VALUE=DATE:20251124
DTSTAMP:20260420T164846
CREATED:20251011T143403Z
LAST-MODIFIED:20251127T122554Z
UID:13561-1763769600-1763942399@tuksport.ee
SUMMARY:Kalev Open 2025
DESCRIPTION:📄 Võistlusjuhend \n⏱️ Tulemused
URL:https://tuksport.ee/kalender/kalev-open-2025/
LOCATION:Sõle Spordikeskus\, Sõle 40a\, Tallinn\, 10317\, Eesti
CATEGORIES:Võistlused
END:VEVENT
BEGIN:VEVENT
DTSTART;VALUE=DATE:20251122
DTEND;VALUE=DATE:20251124
DTSTAMP:20260420T164846
CREATED:20251117T103311Z
LAST-MODIFIED:20251117T103311Z
UID:13617-1763769600-1763942399@tuksport.ee
SUMMARY:VSK kontrollvõistlus
DESCRIPTION:📄 Võistlusjuhend
URL:https://tuksport.ee/kalender/vsk-kontrollvoistlus/
LOCATION:Aura veekeskus\, Turu 10\, Tartu\, Eesti
CATEGORIES:Võistlused
END:VEVENT
BEGIN:VEVENT
DTSTART;VALUE=DATE:20251128
DTEND;VALUE=DATE:20251201
DTSTAMP:20260420T164846
CREATED:20251129T071636Z
LAST-MODIFIED:20251201T080703Z
UID:13634-1764288000-1764547199@tuksport.ee
SUMMARY:Põhjamaade meistrivõistlused
DESCRIPTION:🔴 Reaalajas tulemused \n⏱️ Tulemused
URL:https://tuksport.ee/kalender/pohjamaade-meistrivoistlused-3/
CATEGORIES:Võistlused
END:VEVENT
BEGIN:VEVENT
DTSTART;VALUE=DATE:20251206
DTEND;VALUE=DATE:20251207
DTSTAMP:20260420T164846
CREATED:20241231T072609Z
LAST-MODIFIED:20251208T094341Z
UID:13104-1764979200-1765065599@tuksport.ee
SUMMARY:Speedo Räimeralli finaal
DESCRIPTION:📄 Võistlusjuhend \n🏁 Stardiprotokoll \n🔴 Reaalajas tulemused \n⏱️ Tulemused
URL:https://tuksport.ee/kalender/speedo-raimeralli-finaal-3/
LOCATION:Aura veekeskus\, Turu 10\, Tartu\, Eesti
CATEGORIES:Võistlused
END:VEVENT
END:VCALENDAR