BEGIN:VCALENDAR
VERSION:2.0
PRODID:-//TUK - ECPv6.10.2//NONSGML v1.0//EN
CALSCALE:GREGORIAN
METHOD:PUBLISH
X-WR-CALNAME:TUK
X-ORIGINAL-URL:https://tuksport.ee
X-WR-CALDESC:Events for TUK
REFRESH-INTERVAL;VALUE=DURATION:PT1H
X-Robots-Tag:noindex
X-PUBLISHED-TTL:PT1H
BEGIN:VTIMEZONE
TZID:Europe/Helsinki
BEGIN:DAYLIGHT
TZOFFSETFROM:+0200
TZOFFSETTO:+0300
TZNAME:EEST
DTSTART:20230326T010000
END:DAYLIGHT
BEGIN:STANDARD
TZOFFSETFROM:+0300
TZOFFSETTO:+0200
TZNAME:EET
DTSTART:20231029T010000
END:STANDARD
END:VTIMEZONE
BEGIN:VEVENT
DTSTART;VALUE=DATE:20231111
DTEND;VALUE=DATE:20231112
DTSTAMP:20260420T173137
CREATED:20230824T114002Z
LAST-MODIFIED:20230825T101611Z
UID:11782-1699660800-1699747199@tuksport.ee
SUMMARY:Tartu Tähed
DESCRIPTION:Info on täiendamisel.
URL:https://tuksport.ee/kalender/tartu-tahed/
LOCATION:Aura veekeskus\, Turu 10\, Tartu\, Eesti
END:VEVENT
BEGIN:VEVENT
DTSTART;VALUE=DATE:20231104
DTEND;VALUE=DATE:20231106
DTSTAMP:20260420T173137
CREATED:20230821T080003Z
LAST-MODIFIED:20231021T095555Z
UID:11736-1699056000-1699228799@tuksport.ee
SUMMARY:Aura Open Cup
DESCRIPTION:
URL:https://tuksport.ee/kalender/aura-open-cup/
LOCATION:Aura veekeskus\, Turu 10\, Tartu\, Eesti
CATEGORIES:Võistlused
END:VEVENT
BEGIN:VEVENT
DTSTART;VALUE=DATE:20231021
DTEND;VALUE=DATE:20231022
DTSTAMP:20260420T173137
CREATED:20230821T073902Z
LAST-MODIFIED:20231022T184157Z
UID:11734-1697846400-1697932799@tuksport.ee
SUMMARY:Speedo Räimeralli III etapp
DESCRIPTION:
URL:https://tuksport.ee/kalender/speedo-raimeralli-iii-etapp-2/
LOCATION:Aura veekeskus\, Turu 10\, Tartu\, Eesti
CATEGORIES:Võistlused
END:VEVENT
BEGIN:VEVENT
DTSTART;VALUE=DATE:20231020
DTEND;VALUE=DATE:20231023
DTSTAMP:20260420T173137
CREATED:20230928T073234Z
LAST-MODIFIED:20230928T073558Z
UID:12090-1697760000-1698019199@tuksport.ee
SUMMARY:MK III etapp ujumises
DESCRIPTION:
URL:https://tuksport.ee/kalender/mk-iii-etapp/
LOCATION:Duna Arena\, 36 Nepfurdo utca\, Budapest\, Ungari
END:VEVENT
BEGIN:VEVENT
DTSTART;TZID=Europe/Helsinki:20231014T111000
DTEND;TZID=Europe/Helsinki:20231014T111000
DTSTAMP:20260420T173137
CREATED:20230819T102411Z
LAST-MODIFIED:20231015T075943Z
UID:11574-1697281800-1697281800@tuksport.ee
SUMMARY:Noortesarja IV etapp
DESCRIPTION:Noortesarja IV etapp toimub 14. oktoobril Tartus\, Aura Veekeskuses. \nSoojendusujumine 11:10 – 11:50. Võistluste algus 12:00. \n👉 NS4 2023 võistlusjuhend \n⏱ Tulemused \n  \nVõistlusel osalejad\nOsaleda võivad kõik Eesti Ujumisliidu (EUL) klubid. Sportlastel peab olema kehtiv EUL litsents. \nVanuseklassid: \n\nT13 – tüdrukud 2010 (13 a.)\nT12 – tüdrukud 2011 (12 a.)\nT11 – tüdrukud 2012 (11 a.)\nP14 – poisid 2009 (14 a.)\nP13 – poisid 2010 (13 a.)\nP12 – poisid 2011 (12 a.)\n\n  \nÜlesandmised\nEelregistreerimine on avatud Swimranking keskkonnas kuni 9. oktoober 23.59. Stardimaks 9€. Teateujumise nimeline ülesandmine tuleb esitada hiljemalt 30 minutit enne võistluse algust. \nHilinenud ülesandmisi on võimalik esitada hiljemalt 11. oktoober 19.59. Stardimaks 14€. \nMahavõtmised saata hiljemalt 12. oktoober 19:59 aadressile voistlused@tuksport.ee. \n 
URL:https://tuksport.ee/kalender/noortesarja-iv-etapp/
LOCATION:Aura veekeskus\, Turu 10\, Tartu\, Eesti
CATEGORIES:Võistlused
END:VEVENT
BEGIN:VEVENT
DTSTART;VALUE=DATE:20231013
DTEND;VALUE=DATE:20231016
DTSTAMP:20260420T173137
CREATED:20230928T071647Z
LAST-MODIFIED:20230928T073642Z
UID:12083-1697155200-1697414399@tuksport.ee
SUMMARY:MK II etapp ujumises
DESCRIPTION:
URL:https://tuksport.ee/kalender/mk-ii-etapp/
LOCATION:The Olympic Aquatic Center\, Ολυμπιακό Αθλητικό Κέντρο Αθηνών "Σπύρος Λούης"\, Ateena\, Kreeka
CATEGORIES:Võistlused
END:VEVENT
BEGIN:VEVENT
DTSTART;VALUE=DATE:20231007
DTEND;VALUE=DATE:20231008
DTSTAMP:20260420T173137
CREATED:20230824T114545Z
LAST-MODIFIED:20230824T114545Z
UID:11785-1696636800-1696723199@tuksport.ee
SUMMARY:Tartu pikamaaujumine
DESCRIPTION:Info on täiendamisel
URL:https://tuksport.ee/kalender/tartu-pikamaaujumine/
LOCATION:Aura veekeskus\, Turu 10\, Tartu\, Eesti
CATEGORIES:Võistlused
END:VEVENT
BEGIN:VEVENT
DTSTART;VALUE=DATE:20231006
DTEND;VALUE=DATE:20231009
DTSTAMP:20260420T173137
CREATED:20230928T072742Z
LAST-MODIFIED:20230928T073551Z
UID:12087-1696550400-1696809599@tuksport.ee
SUMMARY:MK I etapp ujumises
DESCRIPTION:
URL:https://tuksport.ee/kalender/mk-i-etapp/
LOCATION:Schwimm- und Sprunghalle im Europasportpark (SSE)\, Paul-Heyse-Straße 26\, Berliin\, Saksamaa
CATEGORIES:Võistlused
END:VEVENT
BEGIN:VEVENT
DTSTART;VALUE=DATE:20230923
DTEND;VALUE=DATE:20230924
DTSTAMP:20260420T173137
CREATED:20230819T102205Z
LAST-MODIFIED:20230821T081731Z
UID:11571-1695427200-1695513599@tuksport.ee
SUMMARY:Tartu Linna Meistrivõistlused
DESCRIPTION:
URL:https://tuksport.ee/kalender/tartu-linna-meistrivoistlused/
LOCATION:Aura veekeskus\, Turu 10\, Tartu\, Eesti
END:VEVENT
END:VCALENDAR