BEGIN:VCALENDAR
VERSION:2.0
PRODID:-//TUK - ECPv6.10.2//NONSGML v1.0//EN
CALSCALE:GREGORIAN
METHOD:PUBLISH
X-ORIGINAL-URL:https://tuksport.ee
X-WR-CALDESC:Events for TUK
REFRESH-INTERVAL;VALUE=DURATION:PT1H
X-Robots-Tag:noindex
X-PUBLISHED-TTL:PT1H
BEGIN:VTIMEZONE
TZID:Europe/Helsinki
BEGIN:DAYLIGHT
TZOFFSETFROM:+0200
TZOFFSETTO:+0300
TZNAME:EEST
DTSTART:20260329T010000
END:DAYLIGHT
BEGIN:STANDARD
TZOFFSETFROM:+0300
TZOFFSETTO:+0200
TZNAME:EET
DTSTART:20261025T010000
END:STANDARD
END:VTIMEZONE
BEGIN:VEVENT
DTSTART;VALUE=DATE:20260222
DTEND;VALUE=DATE:20260223
DTSTAMP:20260420T214118
CREATED:20260114T114554Z
LAST-MODIFIED:20260223T210626Z
UID:13704-1771718400-1771804799@tuksport.ee
SUMMARY:Anna Hoogu 2026
DESCRIPTION:📄 Võistlusjuhend \n👉 Registreerida saab Swimrankingus \n🏁 Stardiprotokoll \n🔴 Reaalajas tulemused \n⏱️ Tulemused \n📸 Pildigalerii
URL:https://tuksport.ee/kalender/anna-hoogu-2026/
LOCATION:Aura veekeskus\, Turu 10\, Tartu\, Eesti
CATEGORIES:Võistlused
END:VEVENT
BEGIN:VEVENT
DTSTART;VALUE=DATE:20260222
DTEND;VALUE=DATE:20260223
DTSTAMP:20260420T214118
CREATED:20260114T114953Z
LAST-MODIFIED:20260223T210935Z
UID:13706-1771718400-1771804799@tuksport.ee
SUMMARY:Edasi Ühel Lainel 2026
DESCRIPTION:📄 Võistlusjuhend \n🏁 Reaalajas tulemused \n⏱️ Tulemused \n📸 Pildigalerii
URL:https://tuksport.ee/kalender/edasi-uhel-lainel-2026/
CATEGORIES:Võistlused
END:VEVENT
BEGIN:VEVENT
DTSTART;VALUE=DATE:20260327
DTEND;VALUE=DATE:20260330
DTSTAMP:20260420T214118
CREATED:20260115T172029Z
LAST-MODIFIED:20260329T181053Z
UID:13711-1774569600-1774828799@tuksport.ee
SUMMARY:MadWave Challenge 2026
DESCRIPTION:📄 Rules and regulations ENG \n📄 Võistlusjuhend \n🤸‍♀️ Soojendusreeglid / Warm-up guide \n🏊 Ujula plaan / Pool plan \n🔴 Reaalajas tulemused / Live results \n🏁 Tulemused / Results
URL:https://tuksport.ee/kalender/madwave-challenge-2026/
LOCATION:Aura veekeskus\, Turu 10\, Tartu\, Eesti
CATEGORIES:Võistlused
END:VEVENT
BEGIN:VEVENT
DTSTART;VALUE=DATE:20260411
DTEND;VALUE=DATE:20260413
DTSTAMP:20260420T214118
CREATED:20260115T172222Z
LAST-MODIFIED:20260415T082526Z
UID:13713-1775865600-1776038399@tuksport.ee
SUMMARY:Tallinna lahtised mastersujumise meistrivõistlused 2026
DESCRIPTION:⏱️ Tulemused
URL:https://tuksport.ee/kalender/tallinna-lahtised-mastersujumise-meistrivoistlused-2026/
LOCATION:Nõmme ujula
CATEGORIES:Võistlused
END:VEVENT
BEGIN:VEVENT
DTSTART;VALUE=DATE:20260425
DTEND;VALUE=DATE:20260426
DTSTAMP:20260420T214118
CREATED:20260109T105319Z
LAST-MODIFIED:20260109T105319Z
UID:13688-1777075200-1777161599@tuksport.ee
SUMMARY:Arena Noorteari Vichy etapp
DESCRIPTION:📄 Võistlussarja üldjuhend
URL:https://tuksport.ee/kalender/arena-noorteari-vichy-etapp/
LOCATION:Keila Tervisekeskuse ujula\, Paldiski mnt 17\, Keila\, Eesti
CATEGORIES:Võistlused
END:VEVENT
BEGIN:VEVENT
DTSTART;VALUE=DATE:20260515
DTEND;VALUE=DATE:20260518
DTSTAMP:20260420T214118
CREATED:20260115T172347Z
LAST-MODIFIED:20260225T174027Z
UID:13715-1778803200-1779062399@tuksport.ee
SUMMARY:107. Eesti meistrivõistlused ujumises. Eesti juunioride ja noorte meistrivõistlused
DESCRIPTION:📄 Võistlusjuhend
URL:https://tuksport.ee/kalender/eesti-meistrivoistlused-pikal-rajal/
LOCATION:Aura veekeskus\, Turu 10\, Tartu\, Eesti
CATEGORIES:Võistlused
END:VEVENT
BEGIN:VEVENT
DTSTART;VALUE=DATE:20260523
DTEND;VALUE=DATE:20260524
DTSTAMP:20260420T214118
CREATED:20251229T193303Z
LAST-MODIFIED:20251229T193303Z
UID:13667-1779494400-1779580799@tuksport.ee
SUMMARY:Speedo Räimeralli II etapp 2026
DESCRIPTION:📄 Võistlusjuhend
URL:https://tuksport.ee/kalender/speedo-raimeralli-ii-etapp-2026/
LOCATION:Aura veekeskus\, Turu 10\, Tartu\, Eesti
CATEGORIES:Võistlused
END:VEVENT
BEGIN:VEVENT
DTSTART;VALUE=DATE:20260606
DTEND;VALUE=DATE:20260607
DTSTAMP:20260420T214118
CREATED:20260115T172501Z
LAST-MODIFIED:20260115T172501Z
UID:13717-1780704000-1780790399@tuksport.ee
SUMMARY:Eesti masters-ujumise meistrivõistlused pikal rajal
DESCRIPTION:
URL:https://tuksport.ee/kalender/eesti-masters-ujumise-meistrivoistlused-pikal-rajal/
LOCATION:Aura veekeskus\, Turu 10\, Tartu\, Eesti
CATEGORIES:Võistlused
END:VEVENT
BEGIN:VEVENT
DTSTART;VALUE=DATE:20260613
DTEND;VALUE=DATE:20260614
DTSTAMP:20260420T214118
CREATED:20260109T105445Z
LAST-MODIFIED:20260109T105445Z
UID:13690-1781308800-1781395199@tuksport.ee
SUMMARY:Arena Noortesari Sportland etapp
DESCRIPTION:📄 Võistlussarja üldjuhend
URL:https://tuksport.ee/kalender/arena-noortesari-sportland-etapp/
LOCATION:Pärnu Raja ujula
CATEGORIES:Võistlused
END:VEVENT
BEGIN:VEVENT
DTSTART;VALUE=DATE:20260707
DTEND;VALUE=DATE:20260713
DTSTAMP:20260420T214118
CREATED:20260115T172616Z
LAST-MODIFIED:20260115T172616Z
UID:13719-1783382400-1783900799@tuksport.ee
SUMMARY:Euroopa juunioride meistrivõistlused
DESCRIPTION:
URL:https://tuksport.ee/kalender/euroopa-juunioride-meistrivoistlused/
LOCATION:Berliin
CATEGORIES:Võistlused
END:VEVENT
BEGIN:VEVENT
DTSTART;VALUE=DATE:20260714
DTEND;VALUE=DATE:20260716
DTSTAMP:20260420T214118
CREATED:20260115T172720Z
LAST-MODIFIED:20260115T172720Z
UID:13722-1783987200-1784159999@tuksport.ee
SUMMARY:Eesti karikavõistlused 2026
DESCRIPTION:
URL:https://tuksport.ee/kalender/eesti-karikavoistlused-2026/
CATEGORIES:Võistlused
END:VEVENT
BEGIN:VEVENT
DTSTART;VALUE=DATE:20260725
DTEND;VALUE=DATE:20260726
DTSTAMP:20260420T214118
CREATED:20260115T172818Z
LAST-MODIFIED:20260115T172818Z
UID:13724-1784937600-1785023999@tuksport.ee
SUMMARY:33. Üle Väikese väina ujumine
DESCRIPTION:
URL:https://tuksport.ee/kalender/33-ule-vaikese-vaina-ujumine/
CATEGORIES:Võistlused
END:VEVENT
BEGIN:VEVENT
DTSTART;VALUE=DATE:20260810
DTEND;VALUE=DATE:20260817
DTSTAMP:20260420T214118
CREATED:20260115T172925Z
LAST-MODIFIED:20260115T172925Z
UID:13726-1786320000-1786924799@tuksport.ee
SUMMARY:Euroopa meistrivõistlused
DESCRIPTION:
URL:https://tuksport.ee/kalender/euroopa-meistrivoistlused/
LOCATION:Pariis
CATEGORIES:Võistlused
END:VEVENT
BEGIN:VEVENT
DTSTART;VALUE=DATE:20260912
DTEND;VALUE=DATE:20260913
DTSTAMP:20260420T214118
CREATED:20260115T173039Z
LAST-MODIFIED:20260115T173039Z
UID:13729-1789171200-1789257599@tuksport.ee
SUMMARY:Tartu linna meistrivõistlused 2026
DESCRIPTION:
URL:https://tuksport.ee/kalender/tartu-linna-meistrivoistlused-2026/
LOCATION:Aura veekeskus\, Turu 10\, Tartu\, Eesti
CATEGORIES:Võistlused
END:VEVENT
BEGIN:VEVENT
DTSTART;VALUE=DATE:20260919
DTEND;VALUE=DATE:20260920
DTSTAMP:20260420T214118
CREATED:20260115T173202Z
LAST-MODIFIED:20260115T173202Z
UID:13731-1789776000-1789862399@tuksport.ee
SUMMARY:18. Tartumaa pikamaaujumine
DESCRIPTION:
URL:https://tuksport.ee/kalender/18-tartumaa-pikamaaujumine/
LOCATION:Aura veekeskus\, Turu 10\, Tartu\, Eesti
CATEGORIES:Võistlused
END:VEVENT
BEGIN:VEVENT
DTSTART;VALUE=DATE:20260920
DTEND;VALUE=DATE:20260921
DTSTAMP:20260420T214118
CREATED:20260115T173303Z
LAST-MODIFIED:20260115T173303Z
UID:13733-1789862400-1789948799@tuksport.ee
SUMMARY:Masters pikamaaujumine 2026
DESCRIPTION:
URL:https://tuksport.ee/kalender/masters-pikamaaujumine-2026/
CATEGORIES:Võistlused
END:VEVENT
BEGIN:VEVENT
DTSTART;VALUE=DATE:20260926
DTEND;VALUE=DATE:20260928
DTSTAMP:20260420T214118
CREATED:20260115T173358Z
LAST-MODIFIED:20260115T173358Z
UID:13735-1790380800-1790553599@tuksport.ee
SUMMARY:Aura Open Cup 2026
DESCRIPTION:
URL:https://tuksport.ee/kalender/aura-open-cup-2026/
LOCATION:Aura veekeskus\, Turu 10\, Tartu\, Eesti
CATEGORIES:Võistlused
END:VEVENT
BEGIN:VEVENT
DTSTART;VALUE=DATE:20261017
DTEND;VALUE=DATE:20261018
DTSTAMP:20260420T214118
CREATED:20251229T193402Z
LAST-MODIFIED:20251229T193536Z
UID:13669-1792195200-1792281599@tuksport.ee
SUMMARY:Speedo Räimeralli III etapp 2026
DESCRIPTION:📄 Võistlusjuhend
URL:https://tuksport.ee/kalender/speedo-raimeralli-iii-etapp-4/
LOCATION:Aura veekeskus\, Turu 10\, Tartu\, Eesti
CATEGORIES:Võistlused
END:VEVENT
BEGIN:VEVENT
DTSTART;VALUE=DATE:20261031
DTEND;VALUE=DATE:20261114
DTSTAMP:20260420T214118
CREATED:20260115T173518Z
LAST-MODIFIED:20260115T173518Z
UID:13737-1793404800-1794614399@tuksport.ee
SUMMARY:Noorte Olümpiamängud 2026
DESCRIPTION:
URL:https://tuksport.ee/kalender/noorte-olumpiamangud-2026/
LOCATION:Dakar
CATEGORIES:Võistlused
END:VEVENT
BEGIN:VEVENT
DTSTART;VALUE=DATE:20261107
DTEND;VALUE=DATE:20261108
DTSTAMP:20260420T214118
CREATED:20260109T105550Z
LAST-MODIFIED:20260109T105550Z
UID:13692-1794009600-1794095999@tuksport.ee
SUMMARY:Arena Noortesari Nordaid etapp
DESCRIPTION:📄 Võistlussarja üldjuhend
URL:https://tuksport.ee/kalender/arena-noortesari-nordaid-etapp-2/
LOCATION:Wiru Spordikeskus\, Järveküla tee 41\, Kohtla-Järve\, Ida-Virumaa\, 30321
CATEGORIES:Võistlused
END:VEVENT
BEGIN:VEVENT
DTSTART;VALUE=DATE:20261113
DTEND;VALUE=DATE:20261115
DTSTAMP:20260420T214118
CREATED:20260115T173704Z
LAST-MODIFIED:20260115T173704Z
UID:13741-1794528000-1794700799@tuksport.ee
SUMMARY:Kalev Open 2026
DESCRIPTION:
URL:https://tuksport.ee/kalender/kalev-open-2026/
CATEGORIES:Võistlused
END:VEVENT
BEGIN:VEVENT
DTSTART;VALUE=DATE:20261120
DTEND;VALUE=DATE:20261123
DTSTAMP:20260420T214118
CREATED:20260115T173758Z
LAST-MODIFIED:20260115T173758Z
UID:13743-1795132800-1795391999@tuksport.ee
SUMMARY:Eesti juunioride ja noorte lühiraja meistrivõistlused 2026
DESCRIPTION:
URL:https://tuksport.ee/kalender/eesti-juunioride-ja-noorte-luhiraja-meistrivoistlused-2026/
CATEGORIES:Võistlused
END:VEVENT
BEGIN:VEVENT
DTSTART;VALUE=DATE:20261205
DTEND;VALUE=DATE:20261206
DTSTAMP:20260420T214118
CREATED:20251229T193450Z
LAST-MODIFIED:20251229T193450Z
UID:13671-1796428800-1796515199@tuksport.ee
SUMMARY:Speedo Räimeralli finaal 2026
DESCRIPTION:📄 Võistlusjuhend
URL:https://tuksport.ee/kalender/speedo-raimeralli-finaal-2026/
LOCATION:Aura veekeskus\, Turu 10\, Tartu\, Eesti
CATEGORIES:Võistlused
END:VEVENT
BEGIN:VEVENT
DTSTART;VALUE=DATE:20261205
DTEND;VALUE=DATE:20261206
DTSTAMP:20260420T214118
CREATED:20260115T173859Z
LAST-MODIFIED:20260115T173859Z
UID:13745-1796428800-1796515199@tuksport.ee
SUMMARY:Eesti masters-ujumise lühiraja meistrivõistlused (Supermasters) 2026
DESCRIPTION:
URL:https://tuksport.ee/kalender/eesti-masters-ujumise-luhiraja-meistrivoistlused-supermasters-2026/
LOCATION:Nõmme ujula
CATEGORIES:Võistlused
END:VEVENT
BEGIN:VEVENT
DTSTART;VALUE=DATE:20261205
DTEND;VALUE=DATE:20261207
DTSTAMP:20260420T214118
CREATED:20260115T173953Z
LAST-MODIFIED:20260115T173953Z
UID:13747-1796428800-1796601599@tuksport.ee
SUMMARY:Põhjamaade MV 2026
DESCRIPTION:
URL:https://tuksport.ee/kalender/pohjamaade-mv-2026/
CATEGORIES:Võistlused
END:VEVENT
BEGIN:VEVENT
DTSTART;VALUE=DATE:20261212
DTEND;VALUE=DATE:20261213
DTSTAMP:20260420T214118
CREATED:20260115T174057Z
LAST-MODIFIED:20260115T174057Z
UID:13749-1797033600-1797119999@tuksport.ee
SUMMARY:Tartumaa MV 2026
DESCRIPTION:
URL:https://tuksport.ee/kalender/tartumaa-mv-2026/
LOCATION:Aura veekeskus\, Turu 10\, Tartu\, Eesti
CATEGORIES:Võistlused
END:VEVENT
BEGIN:VEVENT
DTSTART;VALUE=DATE:20261218
DTEND;VALUE=DATE:20261221
DTSTAMP:20260420T214118
CREATED:20260115T174228Z
LAST-MODIFIED:20260115T174228Z
UID:13752-1797552000-1797811199@tuksport.ee
SUMMARY:Eesti lühiraja meistrivõistlused 2026
DESCRIPTION:
URL:https://tuksport.ee/kalender/eesti-luhiraja-meistrivoistlused-2026/
CATEGORIES:Võistlused
END:VEVENT
END:VCALENDAR