BEGIN:VCALENDAR
VERSION:2.0
PRODID:-//TUK - ECPv6.10.2//NONSGML v1.0//EN
CALSCALE:GREGORIAN
METHOD:PUBLISH
X-ORIGINAL-URL:https://tuksport.ee
X-WR-CALDESC:Events for TUK
REFRESH-INTERVAL;VALUE=DURATION:PT1H
X-Robots-Tag:noindex
X-PUBLISHED-TTL:PT1H
BEGIN:VTIMEZONE
TZID:Europe/Helsinki
BEGIN:DAYLIGHT
TZOFFSETFROM:+0200
TZOFFSETTO:+0300
TZNAME:EEST
DTSTART:20260329T010000
END:DAYLIGHT
BEGIN:STANDARD
TZOFFSETFROM:+0300
TZOFFSETTO:+0200
TZNAME:EET
DTSTART:20261025T010000
END:STANDARD
END:VTIMEZONE
BEGIN:VEVENT
DTSTART;VALUE=DATE:20260515
DTEND;VALUE=DATE:20260518
DTSTAMP:20260425T215804
CREATED:20260115T172347Z
LAST-MODIFIED:20260225T174027Z
UID:13715-1778803200-1779062399@tuksport.ee
SUMMARY:107. Eesti meistrivõistlused ujumises. Eesti juunioride ja noorte meistrivõistlused
DESCRIPTION:📄 Võistlusjuhend
URL:https://tuksport.ee/kalender/eesti-meistrivoistlused-pikal-rajal/
LOCATION:Aura veekeskus\, Turu 10\, Tartu\, Eesti
CATEGORIES:Võistlused
END:VEVENT
END:VCALENDAR